BEGIN:VCALENDAR
PRODID:-//Grails iCalendar plugin//NONSGML Grails iCalendar plugin//EN
VERSION:2.0
CALSCALE:GREGORIAN
METHOD:PUBLISH
BEGIN:VEVENT
DTSTAMP:20260423T153726Z
DTSTART;TZID=Europe/London:20200129T040000
DTEND;TZID=Europe/London:20200129T120000
SUMMARY:Kant and Post-Kantian Philosophy Workshop
UID:20260429T223047Z-iCalPlugin-Grails@philevents-web-6b96c54f56-bljdq
TZID:Europe/London
LOCATION:Shilling 004\, Egham\, United Kingdom
DESCRIPTION:<p>Royal Holloway University of London's philosophy department will host a workshop on Kant and post-Kantian philosophy on 29 Jan\, 9am-5pm\, in Shilling 004. All are welcome\; no registration necessary. The schedule is as follows:</p>\n<p>9:15: Peter Dews (Essex) - "The Paradox of Autonomy in Hegel and in Schelling&rsquo\;s Late Philosophy"</p>\n<p>10:45: Robert Stern (Sheffield) - "The Achilles' Heel of Transcendental Idealism"</p>\n<p>1:30: Paul Franks (Yale) - "From World-Soul to Universal Organism: Towards an Understanding of Schelling's Philosophy of Nature"</p>\n<p>3:00: G. Anthony Bruno (RHUL) - "Facticity and Genesis: Tracking Fichte&rsquo\;s Method in the Berlin <em>Wissenschaftslehre</em>"</p>
ORGANIZER;CN=G. Anthony Bruno:
METHOD:PUBLISH
END:VEVENT
END:VCALENDAR
