BEGIN:VCALENDAR
PRODID:-//Grails iCalendar plugin//NONSGML Grails iCalendar plugin//EN
VERSION:2.0
CALSCALE:GREGORIAN
METHOD:PUBLISH
BEGIN:VEVENT
DTSTAMP:20260425T124237Z
DTSTART;TZID=Europe/Berlin:20200207T043000
DTEND;TZID=Europe/Berlin:20200207T120000
SUMMARY:Aesthetic and Moral Feelings in Modern Philosophy
UID:20260427T073314Z-iCalPlugin-Grails@philevents-web-6b96c54f56-bljdq
TZID:Europe/Berlin
LOCATION:Campus Westend\, Frankfurt am Main\, Germany\, 60322
DESCRIPTION:<p>Goethe University Frankfurt</p>\n<p>Campus Westend</p>\n<p>"Normative Ordnungen"</p>\n<p>Room EG 02</p>\n<p>9:30 Introductory Remarks</p>\n<p><strong>Serena Feloj</strong> (University of Pavia)</p>\n<p>&ldquo\;Kant on Disgust. A Moral-aesthetic Feeling&rdquo\;</p>\n<p>9:45-11:00</p>\n<p><strong>Thomas Hilgers</strong> (Universit&auml\;t Potsdam)</p>\n<p>"The Moral Dimension of Aesthetic Disinterestedness"</p>\n<p>11:15-12:30</p>\n<p>Break</p>\n<p><strong>Javier Burdman</strong> (Goethe University Frankfurt)</p>\n<p>"Enthusiasm: Moral Ideas\, Political Action\, and Affect in Kant's Remarks on the French Revolution"&nbsp\;</p>\n<p>14:00-15:15</p>\n<p><strong>Bart Vandenabeele</strong> (Ghent University)</p>\n<p>&ldquo\;The Existential Value of Aesthetic Contemplation&rdquo\;</p>\n<p>15:30-16:45</p>\n<p><strong>Robert Clewis</strong> (Gwynedd Mercy University / Max Planck Institute for Empirical Aesthetics\, Frankfurt)</p>\n<p>&ldquo\;Kant on the Ethics of Humor&rdquo\;</p>\n<p>17:00-18:15</p>\n<p>Organizers: Javier Burdman and Robert Clewis&nbsp\; &nbsp\; &nbsp\;robertrclewis.com</p>
ORGANIZER;CN=Javier Burdman;CN=Robert R. Clewis:
METHOD:PUBLISH
END:VEVENT
END:VCALENDAR
