BEGIN:VCALENDAR
PRODID:-//Grails iCalendar plugin//NONSGML Grails iCalendar plugin//EN
VERSION:2.0
CALSCALE:GREGORIAN
METHOD:PUBLISH
BEGIN:VEVENT
DTSTAMP:20260422T211418Z
DTSTART;TZID=America/Chicago:20200131T050000
DTEND;TZID=America/Chicago:20200131T050000
SUMMARY:INCLUSION/EXCLUSION: EXPLORING DIFFERENCES ACROSS BOUNDARIES
UID:20260427T181607Z-iCalPlugin-Grails@philevents-web-6b96c54f56-bljdq
TZID:America/Chicago
LOCATION:Baton Rouge\, United States
DESCRIPTION:<p>The Graduate Student Associations of the Department of French and the Program in Comparative Literature at Louisiana State University are pleased to invite you to their annual graduate student conference\, taking place in Baton Rouge\, LA\, on March 6th and 7th\, 2020</p>\n<p>Societies have long defined themselves through processes of inclusion and exclusion. This has often occurred at the expense of certain groups of people. Slavery\, prison systems\, citizenship rights\, partition and its aftermath\, class struggles\, gender discrimination\, etc. &ndash\; all of these historical and problematic events were born from excluding people from society. Recently\, &ldquo\;inclusion&rdquo\; has become a buzzword across universities and industries in response to an increased awareness of exclusionary practices. Some have touted the use of &ldquo\;inclusion&rdquo\; as a cure-all for a plurality of social problems. However\, others have critiqued this idea\, arguing that &ldquo\;inclusion&rdquo\; erases diversity and individuality. In either case\, literature has time and again profited from these themes. In response to this dichotomy of inclusion/exclusion\, the aim of this conference is to explore inclusion/exclusion beyond its binary. Can inclusion/exclusion exist in tandem? How do inclusion and exclusion contribute or remedy social struggles? How do authors &ndash\; both current and past &ndash\; present societies as inclusive or exclusive?</p>\n<p>Topics could include but are not limited to: ~ Inclusivity/exclusivity in literary and cultural studies ~ Micro-aggressions ~ Models of inclusion/exclusion ~ (Im)migration ~ Role of literature in promoting inclusion/exclusion ~ How literature reflects social inclusion/exclusion ~ Inclusion/exclusion in the writing process ~ Partitions ~ Racial tensions ~ Gender disparities ~ Inclusive utopias</p>\n<p>Keynotes Dr. Daniel Desormeaux Johns Hopkins University &amp\; Dr. Maha Marouan Pennsylvania State University</p>\n<p>We welcome abstracts of 250 hundred words addressing this topic. Abstracts should be accompanied by a short biographical note\, including university affiliation and area of study. Presentations may be in French or English. If enough interest is shown\, French panels will be organized. Presentations should be between 15 and 20 minutes long.</p>\n<p>For more information or to submit an abstract\, please contact us at:</p>\n<p>LSUgradfrenchconference2020@gmail.com</p>\n<p>DEADLINE: January 31\, 2020</p>
ORGANIZER;CN=Mathilde Pointiere:
METHOD:PUBLISH
END:VEVENT
END:VCALENDAR
