BEGIN:VCALENDAR
PRODID:-//Grails iCalendar plugin//NONSGML Grails iCalendar plugin//EN
VERSION:2.0
CALSCALE:GREGORIAN
METHOD:PUBLISH
BEGIN:VEVENT
DTSTAMP:20260419T184445Z
DTSTART;TZID=America/New_York:20200623T140000
DTEND;TZID=America/New_York:20200623T140000
SUMMARY:13th Biennial Personalist Seminar:  Whitehead and Berdyaev
UID:20260421T213806Z-iCalPlugin-Grails@philevents-web-f5d4878dd-nv7xt
TZID:America/New_York
LOCATION:Western Carolina University\, Cullowhee\, United States\, 28723
DESCRIPTION:<p><strong><u>Program</u></strong></p>\n<p>About 15-25 participants</p>\n<p><strong><u>Program Structure</u></strong></p>\n<p>In the 1957 <em>Journal of Religion </em>Charles Hartshorne published an important article &ldquo\;Whitehead and Berdyaev:&nbsp\; Is There Tragedy in God?&rdquo\;&nbsp\;&nbsp\; The Thirteenth Personalist Seminar will center around Alfred N. Whitehead and Nicolas Berdyaev\, with separate days devoted to different aspects of their work.&nbsp\; &nbsp\;The first day will introduce the group to Whitehead and Berdyaev in their contexts.&nbsp\; These discussions will be led by <strong>George Lucas</strong>.<strong> </strong>Distinguished Chair in Ethics in the Vice Admiral James B. Stockdale Center for Ethical Leadership at the U.S. Naval Academy\, Emeritus. Currently Professor of ethics and public policy at the Graduate School of Public Policy at the Naval Postgraduate School and<strong> </strong><strong>Daniel Dombrowski\, </strong>Professor of Philosophy University of Seattle\, Editor\, <em>Process Studies</em><strong>.&nbsp\; </strong>The remaining days each participant will be responsible for a specific text and/or aspect\, or present a paper on Whitehead or Berdyaev and will help lead that part of the discussion.<strong></strong></p>\n<p><strong><u>Proposals</u></strong></p>\n<p>Submit a title and brief (no more than one page) summary of your interest in the seminar&rsquo\;s subjects.&nbsp\; Accepted projects will receive between 60 and 90 minutes for presentation and discussion of their presentation. Proposals should be sent to:</p>\n<p>Dr. James McLachlan</p>\n<p><a href="mailto:jmclachla@email.wcu.edu">jmclachla@email.wcu.edu</a></p>\n<p><strong>Due Date:&nbsp\; May 15</strong></p>
ORGANIZER;CN=Randall E. Auxier;CN=James M. McLachlan:
METHOD:PUBLISH
END:VEVENT
END:VCALENDAR
