BEGIN:VCALENDAR
PRODID:-//Grails iCalendar plugin//NONSGML Grails iCalendar plugin//EN
VERSION:2.0
CALSCALE:GREGORIAN
METHOD:PUBLISH
BEGIN:VEVENT
DTSTAMP:20260419T145536Z
DTSTART;TZID=America/Chicago:20130610T100000
DTEND;TZID=America/Chicago:20130712T180000
SUMMARY:Metaphysics and Mind
UID:20260420T213751Z-iCalPlugin-Grails@philevents-web-f5d4878dd-nv7xt
TZID:America/Chicago
LOCATION:Saint Louis\, United States
DESCRIPTION:<p>A five-week National Endowment for the Humanities Seminar on metaphysical issues in the philosophy of mind led by John Heil\, 10 June - 12 July 2013. Visiting faculty will include E. J. Lowe\, Graham Oddie\, and Alyssa Ney.<br><br>Sixteen participants will be chosen from among eligible applicants interested in metaphysical issues that arise in the philosophy of mind. Early sessions of the seminar will be devoted to discussion of fundamental metaphysical themes including the nature of properties\, causality\, laws of nature\, powers\, and qualities. Later sessions will be devoted to discussion of metaphysical themes of special interest to participants.<br><br>Seminar stipend: $3\,900.<br><br>For more information\, please visit the seminar website:<br><br>&nbsp\; &nbsp\; &nbsp\;&nbsp\;<br></p>
ORGANIZER:
METHOD:PUBLISH
END:VEVENT
END:VCALENDAR
