BEGIN:VCALENDAR
PRODID:-//Grails iCalendar plugin//NONSGML Grails iCalendar plugin//EN
VERSION:2.0
CALSCALE:GREGORIAN
METHOD:PUBLISH
BEGIN:VEVENT
DTSTAMP:20260420T210743Z
DTSTART;TZID=America/New_York:20200701T194500
DTEND;TZID=America/New_York:20200701T194500
SUMMARY:Virginia Philosophical Association Conference
UID:20260421T053754Z-iCalPlugin-Grails@philevents-web-6b96c54f56-bljdq
TZID:America/New_York
LOCATION:Liberty University\, Lynchburg\, United States
DESCRIPTION:<p>COVID-19 UPDATE: Pending further information\, the 81st Meeting of the VPA is now a hybrid face-to-face/online event. &nbsp\;Accepted submitters will be given the opportunity to specify if they would prefer to present their submission virtually or in person. &nbsp\;Conference proceedings will be broadcast online in real-time for presenters and virtual attendees. &nbsp\;Please check back here and at the VPA website for continued updates. &nbsp\;https://sites.google.com/site/virginiaphilosophy/81st-cfp</p>\n<p>We welcome submissions in any area of philosophy from philosophers and graduate students. Your paper should be formatted as a Word document or a pdf\, sent as an attachment to an email\, and have a word count no higher than 4\,500. Please prepare the paper for blind review and include a brief abstract. Email your paper to Michael Jones (msjones2@liberty.edu)&nbsp\;with 'VPA Submission' in the subject line. Commentators will be solicited from those whose papers are not selected.&nbsp\;Please indicate in your email whether you are willing to serve as a commentator.&nbsp\;</p>\n<p><strong>Conference details:</strong><strong></strong></p>\n<p>Dates: Friday afternoon\, October 30\, and Saturday morning\, October 31 (ending at noon)</p>\n<p>Location: Liberty University\, Lynchburg\, Virginia</p>\n<p>Cost:&nbsp\;There is no conference fee or membership requirement\, and Friday night's dinner and a light breakfast on Saturday will be provided by Liberty University.&nbsp\;</p>\n<p>Please join us at the Virginia Philosophical Association!</p>\n<p>Michael Jones\, Liberty University\, VPA President</p>\n<p>Andrew Kissel\, Old Dominion University\, VPA Vice President</p>\n<p>Thomas Provenzola\, Walters State Community College\, VPA Secretary</p>
ORGANIZER;CN=Michael S. Jones;CN=Andrew Kissel;CN=Thom Provenzola:
METHOD:PUBLISH
END:VEVENT
END:VCALENDAR
