BEGIN:VCALENDAR
PRODID:-//Grails iCalendar plugin//NONSGML Grails iCalendar plugin//EN
VERSION:2.0
CALSCALE:GREGORIAN
METHOD:PUBLISH
BEGIN:VEVENT
DTSTAMP:20260422T130734Z
DTSTART;TZID=Europe/London:20210206T040000
DTEND;TZID=Europe/London:20210207T120000
SUMMARY:The 24th Annual Oxford Philosophy Graduate Conference
UID:20260426T062023Z-iCalPlugin-Grails@philevents-web-6b96c54f56-bljdq
TZID:Europe/London
LOCATION:Radcliffe Observatory Quarter 555\, Woodstock Road\, Oxford\, United Kingdom\, OX2 6GG
DESCRIPTION:<p>The University of Oxford's Annual Graduate Philosophy Conference enjoys a reputation as one of the most prestigious philosophy conferences at a graduate level in the United Kingdom. This year's conference is going to take place online via Zoom on 6-7th February 2021.</p>\n<p>Each student presentation will be followed by a response from a member of the Oxford Philosophy Faculty. This presents a wonderful opportunity for students to receive feedback on their work from an expert in the field and ensures many interesting discussions during the conference and beyond.&nbsp\;</p>\n<p>Our keynote speakers are&nbsp\;<a  href="http://www.timcrane.com/"  rel="noopenerdata-auth=">Tim Crane</a>&nbsp\;and&nbsp\;<a  href="https://lapaul.org/"  rel="noopenerdata-auth=">L. A. Paul</a>. The whole programme of the conference (including abstracts and other details) is available on <a  href="http://users.ox.ac.uk/~gradconf/"  rel="noopenerdata-auth=">http://users.ox.ac.uk/~gradconf/</a>. Video conferencing details will be published shortly.&nbsp\; &nbsp\;</p>\n<p>If you neither study at Oxford\, nor have been invited by one of our speakers but are interested in attending some of our talks\, you are welcome to do so provided that you email us in advance specifying your home institution and which talk(s) you wish to attend. You can contact us at gradconf@philosophy.ox.ac.uk</p>
ORGANIZER:
METHOD:PUBLISH
END:VEVENT
END:VCALENDAR
