BEGIN:VCALENDAR
PRODID:-//Grails iCalendar plugin//NONSGML Grails iCalendar plugin//EN
VERSION:2.0
CALSCALE:GREGORIAN
METHOD:PUBLISH
BEGIN:VEVENT
DTSTAMP:20260420T230503Z
DTSTART;TZID=Europe/Brussels:20200530T200000
DTEND;TZID=Europe/Brussels:20200530T200000
SUMMARY:7th World Congress on the Square of Opposition
UID:20260421T155137Z-iCalPlugin-Grails@philevents-web-6b96c54f56-bljdq
TZID:Europe/Brussels
LOCATION:Leuven\, Belgium
DESCRIPTION:<p>This will be the 7th world congress organized about the square of opposition after very successful previous editions in Montreux\, Switzerland 2007\; Cort&eacute\;\, Corsica 2010\; Beirut\, Lebanon 2012\; Vatican\, 2014\; Easter Island\, 2016\, Crete\, 2018. This is an interdisciplinary event gathering logicians\, philosophers\, mathematicians\, semioticians\, theologians\, cognitivists\, artists and computer scientists.</p>
ORGANIZER;CN=Jean-Yves Beziau;CN=Lorenz Demey;CN=Dany Jaspers;CN=Hans Smessaert:
METHOD:PUBLISH
END:VEVENT
END:VCALENDAR
