BEGIN:VCALENDAR
PRODID:-//Grails iCalendar plugin//NONSGML Grails iCalendar plugin//EN
VERSION:2.0
CALSCALE:GREGORIAN
METHOD:PUBLISH
BEGIN:VEVENT
DTSTAMP:20260423T150016Z
DTSTART;TZID=Europe/Paris:20200901T050000
DTEND;TZID=Europe/Paris:20200901T050000
SUMMARY:The Positive and the Normative in Economic Thought
UID:20260429T204241Z-iCalPlugin-Grails@philevents-web-6b96c54f56-bljdq
TZID:Europe/Paris
LOCATION:Paris\, France
DESCRIPTION:<p>We welcome submissions for the international conference &ldquo\;The Positive and the Normative in Economic Thought&rdquo\;\, that will be held on <strong>16-18 December 2020</strong> in Paris. The conference will be organized thanks to the support of Coll&egrave\;ge International de Philosophie (CIPH) and University of Nantes. The languages of the conference will be English and French. We invite you to send your anonymized 500-word proposals in English or French\, accompanied by bibliographical references\, to <a href="mailto:positive-normative@protonmail.com">positive-normative@protonmail.com</a>\, before <strong>01 September 2020</strong>. Each presentation should last 45 minutes (30 minutes presentation and 15 minutes discussion). From <strong>October 1st\, 2020</strong>\, the authors of the selected proposals will be contacted and will be asked to send the text of their presentation before <strong>December 1st\, 2020</strong>.</p>\n<p>For a more precise idea of the approach we intend to emphasize\, we kindly ask you to read the attached document\, which details our theoretical aims. Researchers who have already confirmed their participation are:</p>\n<p>1. &Eacute\;tienne Balibar (Kingston University)</p>\n<p>2. Antoinette Baujard (Universit&eacute\; Jean Monnet &amp\; GATE Lyon Saint-Etienne)</p>\n<p>3. Gilles Campagnolo (CNRS and the Aix-Marseille School of Economics)  </p>\n<p>4. Muriel Gilardone (University of Caen)  </p>\n<p>5. Uskali M&auml\;ki (University of Helsinki)  </p>\n<p>6. Magdalena Malecka (University of Helsinki &amp\; IAS\, Princeton)</p>\n<p>7. Philippe Mongin (CNRS &amp\; HEC Paris)</p>\n<p>8. Emmanuel Picavet (Universit&eacute\; Panth&eacute\;on-Sorbonne)</p>\n<p>9. Jes&uacute\;s Zamora Bonilla (Universidad Nacional de Educaci&oacute\;n a Distancia)</p>\n<p>We highly encourage submissions from members of underrepresented groups. For more&nbsp\;information\, please contact the organizers of the conference:</p>\n<p>Sina Badiei (<a href="mailto:sina.badiei@tutanota.com">sina.badiei@tutanota.com</a>)</p>\n<p>Agn&egrave\;s Grivaux (<a href="mailto:agnes.grivaux@univ-nantes.fr">agnes.grivaux@univ-nantes.fr</a>)</p>
ORGANIZER;CN=Sina Badiei;CN="Agnès Grivaux":
METHOD:PUBLISH
END:VEVENT
END:VCALENDAR
