BEGIN:VCALENDAR
PRODID:-//Grails iCalendar plugin//NONSGML Grails iCalendar plugin//EN
VERSION:2.0
CALSCALE:GREGORIAN
METHOD:PUBLISH
BEGIN:VEVENT
DTSTAMP:20260423T205457Z
DTSTART;TZID=America/Lima:20210113T040000
DTEND;TZID=America/Lima:20210115T170000
SUMMARY:The Heterodox in Logic and Reason
UID:20260430T145914Z-iCalPlugin-Grails@philevents-web-6b96c54f56-bljdq
TZID:America/Lima
LOCATION:Lima\, Peru
DESCRIPTION:<p>The proclamation of World Logic Day by the UNESCO\, in partnership with the CIPSH\, is intended to draw attention of inter-disciplinary scientific communities and the general public to the intellectual history\, conceptual meaning and practical implications of logic.</p>\n<p>To this end\, the <em>Peruvian Society of Epistemology and Logic</em> (SPEL) calls the academic community to participate in its First World Logic Day event\, to be celebrated on <strong>January 13-15\, 2021</strong>.</p>\n<p>In this edition\, we are especially interested in contributions related to the topics treated in the works of Francisco Mir&oacute\; Quesada Cantuarias\, among which are included:</p>\n<ul>\n<li>Philosophy of Logic and Mathematics</li>\n<li>Theory of Reason</li>\n<li>Logic and Metaphysics</li>\n<li>Non-classical\, Heterodox and Paraconsistent Logics&nbsp\;</li>\n<li>Deontic Logic and Logic of Law</li>\n<li>Pedagogy of Logic and Mathematics</li>\n<li>History of Latin American Logic</li>\n<li>Studies of the FMQC&rsquo\;s works on these topics</li>\n</ul>\n<p>Selected contributions related to these topics will be invited to participate in a special issue of the <em>South American Journal of Logic</em> dedicated to Francisco Mir&oacute\; Quesada Cantuarias.</p>\n<p><strong>Website of the event:</strong></p>
ORGANIZER;CN=Luis Felipe Bartolo Alegre:
METHOD:PUBLISH
END:VEVENT
END:VCALENDAR
