BEGIN:VCALENDAR
PRODID:-//Grails iCalendar plugin//NONSGML Grails iCalendar plugin//EN
VERSION:2.0
CALSCALE:GREGORIAN
METHOD:PUBLISH
BEGIN:VEVENT
DTSTAMP:20260423T175948Z
DTSTART;TZID=America/Toronto:20201130T184500
DTEND;TZID=America/Toronto:20201130T184500
SUMMARY:The Heterodox in Logic and Reason (SAJL Special Issue)
UID:20260430T054653Z-iCalPlugin-Grails@philevents-web-6b96c54f56-bljdq
TZID:America/Toronto
DESCRIPTION:<p><strong>Title</strong></p>\n<p><strong></strong><em>The Heterodox in Logic and Reason</em> (SAJL special issue dedicated to Francisco Mir&oacute\; Quesada Cantuarias)</p>\n<p><strong>Journal</strong></p>\n<p><strong></strong><em>South American Journal of Logic</em>\, edited by Jean-Yves B&eacute\;ziau and Marcelo Coniglio</p>\n<p><strong>Guest editors</strong></p>\n<p>&nbsp\;- Luis Felipe Bartolo Alegre (UNMSM/Per&uacute\;)</p>\n<p>&nbsp\;- Jos&eacute\; Carlos Cifuentes (UFPR/Brasil)</p>\n<p>&nbsp\;- Evandro Luis Gomes (UEM/Brasil)</p>\n<p><strong>&nbsp\;Guest contributors:</strong></p>\n<p>&nbsp\;- Newton C. A. da Costa (UFSC/Brazil)</p>\n<p>&nbsp\;- Otavio Bueno (UMiami/USA)</p>\n<p>&nbsp\;- Walter Alexandre Carnielli (Unicamp/Brazil)</p>\n<p>&nbsp\;- Alberto Cordero Lecca (CUNY/USA)</p>\n<p>&nbsp\;- Luis Adolfo Piscoya Hemorza (UNMSM/Per&uacute\;)</p>\n<p><strong>Key Dates</strong></p>\n<p>&nbsp\;- Submission deadline for full-length papers: November 30\, 2020</p>\n<p>&nbsp\;- Deadline for final versions: May 15\, 2021</p>\n<p>&nbsp\;- Expected publication date: July 2021</p>\n<p><strong>Introduction</strong></p>\n<p>Jos&eacute\; Francisco Mir&oacute\; Quesada Cantuarias (1918-2019) was the most important Peruvian philosopher of logic and mathematics. He was mainly concerned with constructing a theory of reason adequate for understanding the most important logical and mathematical discoveries of his time: G&ouml\;del&rsquo\;s incompleteness theorems and &ldquo\;heterodox logics&rdquo\; &mdash\;name coined by him.</p>\n<p>He also coined the name &ldquo\;paraconsistent logic&rdquo\;\, which designates those logical systems for which the principles of contradiction and explosion do not hold generally. He has also been a pioneer in the fields of deontic logic and logic of law with his article &ldquo\;La l&oacute\;gica del deber ser y su eliminabilidad&rdquo\; (The logic of ought and its eliminability)\, written the same year as von Wright&rsquo\;s Deontic Logic (1951).</p>\n<p><strong>Topics</strong></p>\n<p>This special issue of the South American Journal of Logic will consist of works based on his legacy. Potential topics include\, but are not limited to:</p>\n<p>&nbsp\;- Philosophy of Logic and Mathematics</p>\n<p>&nbsp\;- Theory of Reason</p>\n<p>&nbsp\;- Logic and Metaphysics</p>\n<p>&nbsp\;- Non-classical\, Heterodox and Paraconsistent Logics</p>\n<p>&nbsp\;- Deontic Logic and Logic of Law</p>\n<p>&nbsp\;- Pedagogy of Logic and Mathematics</p>\n<p>&nbsp\;- History of Latin American Logic</p>\n<p>&nbsp\;- Studies of the FMQC&rsquo\;s works on these topics</p>\n<p>We welcome both papers that concern directly FMQC&rsquo\;s works and original papers that simply address these topics.</p>\n<p><strong>Submission guidelines</strong></p>\n<p>Submit your manuscript properly blinded by November 30\, 2020\, to fmqc.sajl@spel.org.pe indicating your Name\, Email and Institution in the body of the email.</p>\n<p>All papers will be peer-reviewed and should consist of unpublished material not being considered for publication elsewhere. We encourage you to write your manuscript using the SAJL LaTeX template linked in the web of the event.</p>\n<p><strong>Note</strong></p>\n<p>You can also present your paper at our <em>World Logic Day 2021</em> event:&nbsp\;https://philevents.org/event/show/83582</p>\n<p><strong>Webiste</strong></p>
ORGANIZER:
METHOD:PUBLISH
END:VEVENT
END:VCALENDAR
