BEGIN:VCALENDAR
PRODID:-//Grails iCalendar plugin//NONSGML Grails iCalendar plugin//EN
VERSION:2.0
CALSCALE:GREGORIAN
METHOD:PUBLISH
BEGIN:VEVENT
DTSTAMP:20260422T191919Z
DTSTART;TZID=Europe/London:20201109T000000
DTEND;TZID=Europe/London:20201109T000000
SUMMARY:Ships in the proletarian night: contemporary Marxist thought in France and Britain
UID:20260427T081206Z-iCalPlugin-Grails@philevents-web-6b96c54f56-bljdq
TZID:Europe/London
LOCATION:Alison Richards Building\, Cambridge\, United Kingdom\, CB2 1ST
DESCRIPTION:<p><strong><u>CALL FOR PAPERS</u></strong><strong><u>CALL FOR PAPERS</u></strong></p>\n<p><strong>Ships in the proletarian night: contemporary Marxist thought in France and Britain</strong></p>\n<p><strong>&nbsp\;</strong></p>\n<p><strong>25th &ndash\; 27th March 2021</strong></p>\n<p><strong>Alison Richards Building\,</strong></p>\n<p><strong>Sidgwick Site\,</strong></p>\n<p><strong>The University of Cambridge</strong></p>\n<p><strong>&nbsp\;</strong></p>\n<p><strong>&nbsp\;</strong></p>\n<p><strong>Confirmed keynote speakers:</strong></p>\n<p>Razmig Keucheyan (University of Bordeaux)\, Stathis Kouvelakis\, Julia Nicholls (King&rsquo\;s College London)\, Kristin Ross (New York University)</p>\n<p>In the 1840s\, Marx moved west: exiled from Germany\, forced into France\, joining Engels in Britain. Each step was pivotal to the constitution of what we now know as Marxism\, as German philosophy\, French socialism and British economics came together in a powerful and enduring synthesis. An exchange between France and Britain thus stands at the beginning of the Marxist tradition of thought. Marx&rsquo\;s leap across the English Channel is not the only moment when a creative encounter between radical thought in Britain and France has occurred. One thinks\, for instance\, of the fertile moment of the 1870s and 1880s\, when the event of the Paris Commune helped to spark a revival of British socialism\; its significance captured by William Morris\, the poet of Marxism\, in his claim that the Commune laid &lsquo\;the foundation-stone of the new world that is to be&rsquo\;. We can also think here about the decade that followed the May 1968 events in Paris. The political eruption in France\, and with it the revival of radical thinking\, inaugurated a new moment of exchange. In particular\, the Marxism of Louis Althusser\, Pierre Macherey and Nicos Poulantzas piqued critical\, indeed at times caustic\, interventions from Stuart Hall\, Terry Eagleton and E. P. Thompson\, as well as playing a crucial role in retooling the British tradition of Cultural Studies.&nbsp\;</p>\n<p>These three moments of encounter provoke a query: What is the significance of the Anglo-French connection for contemporary Marxism? There are clearly viable currents of Marxist thought in both countries. The student-led &ldquo\;lectures de Marx&rdquo\; seminar at the &Eacute\;cole Normale Sup&eacute\;rieure\, founded in 2009\, is one sign of the continuing critical engagement with Marxism by a current generation of students. In Britain\, there are similar tentative signs of a revival in Marxism\, with forums such as the&nbsp\;World Transformed&nbsp\;festival and&nbsp\;Salvage&nbsp\;magazine\, as well as the continuing strength of publishers such as Verso and Pluto\, offering a stage for the rejuvenation of socialist thinking. Yet\, these two tendencies seem strangely disconnected\; like two ships in the night\, the exchanges between French and British Marxism are fleeting\, lacking the dynamism and drive of the post-Commune and post-1968 moments. Where are the reciprocal exchanges between the two traditions today? How can the productive polemics of the past be replicated in the contemporary moment?&nbsp\;</p>\n<p>The concern here is not purely abstract\; there are concrete reasons why a new encounter between French and British Marxism is of particular importance today. To borrow an Althusserian term\, which was popularised by Stuart Hall\, both countries face a conjuncture that shares certain key similarities. To take some obvious examples: the attempt to revive socialism through a left populist strategy\, represented by Jeremy Corbyn&rsquo\;s Labour Party and Jean-Luc M&eacute\;lenchon&rsquo\;s&nbsp\;La France Insoumise\; the increased potency of contentious street and protest actions\, whether in the form of national strikes against Macron&rsquo\;s pension reforms or Extinction Rebellion&rsquo\;s attempts to bring London to a standstill\; an austerity politics\, undergirded by forty years of neoliberalism\, that takes aim at the last vestiges of the welfare state\; and\, finally\, the legacies of colonialism\, with postcolonial questions of nation\, race and identity inflecting both the two polities.&nbsp\;</p>\n<p>Ships in the Proletarian Night\, then\, has three aims. First\, to explore the history of Anglo-French Marxist encounters\, enriching our understanding of the history of exchanges between the two traditions. Second\, to consider the contemporary state of Marxist thought in France and Britain\, dwelling on the recent revivals of socialist thinking and action in each context. Third\, to explore the latent possibilities for new encounters in the future\, considering how each tradition might enrich the other\, casting new light on the pressing questions of the contemporary conjuncture.&nbsp\;</p>\n<p>Possible topics might include:</p>\n<p>&bull\; Historical exchanges between the Marxist traditions in Britain and France</p>\n<p>&bull\; The Paris Commune and its legacy\, of which it will be the 150th anniversary in March</p>\n<p>&bull\; Contemporary Marxist thinkers and projects</p>\n<p>&bull\; Questions of translation\, circulation and reception</p>\n<p>&bull\; The rise (and possible fall) of left populism</p>\n<p>&bull\; Resistance movements\, such as Extinction Rebellion\, the gilets jaunes\, and industrial action</p>\n<p>&bull\; Radical rightism: its causes and consequences</p>\n<p>&bull\; New theoretical approaches</p>\n<p>&bull\; Marxist takes on financialisation</p>\n<p>&bull\; Empire\, Anticolonialism and Marxism: With and Beyond C.L.R. James and Aim&eacute\; C&eacute\;saire</p>\n<p>Please send an abstract (max. 250 words) tomarxseminaradmin@riseup.netbefore November 9th\, 2020. Papers should be no longer than 20 minutes. We accept papers in both French and English. For non-French speakers\, papers will be translated and circulated in the room. All information will also be made available onCRASSH&rsquo\;s website.</p>\n<p>Organisers&nbsp\;: Sakshi Aravind\, (Cambridge) Joe Davidson\, (Cambridge) Louis Klee\, (Cambridge) Marion Leclair\, (Universit&eacute\; d&rsquo\;Artois) Solange Manche\, (Cambridge)</p>\n<p>About the Cambridge Reading Marx Seminar</p>\n<p>Founded by Solange Manche\, Louis Klee\, and Joe Davidson in July 2019\,&nbsp\;the Cambridge Reading Marx Seminar&nbsp\;is a multidisciplinary research forum based in King&rsquo\;s College and cooperates with the &ldquo\;lectures de Marx&rdquo\; seminar at the &Eacute\;cole Normale Sup&eacute\;rieure (Ulm) in Paris. We run a reading group style discussion circle and host invited speakers\, creating a space for discussion of Marx&rsquo\;s work.</p>\n<p><strong><u>APPEL &Agrave\; COMMUNICATIONS</u></strong></p>\n<p><strong><u>&nbsp\;</u></strong></p>\n<p><strong>La pens&eacute\;e marxiste contemporaine en France et en Grande-Bretagne&nbsp\;: une rencontre manqu&eacute\;e&nbsp\;?</strong></p>\n<p><strong>&nbsp\;</strong></p>\n<p><strong>Du 25 au 27 mars 2021\,</strong></p>\n<p><strong>Alison Richards Building\,</strong></p>\n<p><strong>Sidgwick Site\,</strong></p>\n<p><strong>The University of Cambridge</strong></p>\n<p><strong>&nbsp\;</strong></p>\n<p><strong>Conf&eacute\;rences pl&eacute\;ni&egrave\;res confirm&eacute\;es :</strong><strong></strong></p>\n<p>Razmig Keucheyan (Universit&eacute\; de Bordeaux)\, Stathis Kouv&eacute\;lakis\, Julia Nicholls (King&rsquo\;s College Londres)\, Kristin Ross (New York University)\,</p>\n<p>Dans les ann&eacute\;es 1840\, Marx part pour l&rsquo\;Ouest : exil&eacute\; et contraint d&rsquo\;aller &agrave\; Paris\, il rejoint Engels au Royaume-Uni. Chaque &eacute\;tape fut fondamentale dans la constitution de ce que nous appelons aujourd&rsquo\;hui le marxisme\, donnant naissance &agrave\; une puissante et durable synth&egrave\;se entre la philosophie allemande\, le socialisme fran&ccedil\;ais et l&rsquo\;&eacute\;conomie politique britannique. Les &eacute\;changes entre la France et le Royaume-Uni inaugurent donc le d&eacute\;but de la tradition intellectuelle marxiste.Bien apr&egrave\;s la travers&eacute\;e de la Manche par Engels puis Marx\, la rencontre du marxisme\, de la pens&eacute\;e radicale britannique et de du socialisme fran&ccedil\;ais donne encore lieu &agrave\; des &eacute\;laborations f&eacute\;condes. On peut par exemple mentionner le moment tr&egrave\;s fertile des ann&eacute\;es 1870s et 1880\, quand la Commune d&eacute\;clenche une renaissance du socialisme britannique\, incarn&eacute\;e dans la po&eacute\;sie de William Morris\, pour qui la Commune &laquo\;&nbsp\;posa la premi&egrave\;re pierre du nouveau monde &agrave\; venir&nbsp\;&raquo\;. On peut &eacute\;galement mentionner la d&eacute\;cennie qui proc&egrave\;de les &eacute\;v&egrave\;nements de mai-juin 68. L&rsquo\;&eacute\;ruption politique en France et le retour de la th&eacute\;orie radicale initi&egrave\;rent un nouveau moment d&rsquo\;&eacute\;changes &ndash\; parfois acides&nbsp\;:&nbsp\; le marxisme critique de Louis Althusser\, de Pierre Macherey et de Nicos Poulantzas\, s&rsquo\;il d&eacute\;clenche parfois les foudres pol&eacute\;miques de Stuart Hall\, de Terry Eagleton et de E. P. Thompson\, n&rsquo\;en joue pas moins un r&ocirc\;le d&eacute\;cisif dans le renouvellement de la tradition britannique des <em>Cultural Studies</em>.</p>\n<p>Ces trois moments de rencontre suscitent l&rsquo\;interrogation&nbsp\;: quel est le legs de ces liens franco-britanniques au marxisme contemporain&nbsp\;? Il y a clairement des courants de pens&eacute\;e marxiste &eacute\;tablis dans les deux pays. Le s&eacute\;minaire d&rsquo\;&eacute\;l&egrave\;ves &laquo\;&nbsp\;Lectures de Marx &agrave\; l&rsquo\;ENS Ulm\, n&eacute\; en 2009\, est bien le signe d&rsquo\;un retour de l&rsquo\;engagement critique avec la pens&eacute\;e marxiste dans la pr&eacute\;sente g&eacute\;n&eacute\;ration d&rsquo\;&eacute\;tudiant.e.s. En Grande-Bretagne\, il y a des initiatives similaires\, quoi que moins d&eacute\;velopp&eacute\;es\, comme le festival &laquo\;&nbsp\;The World Transformed&nbsp\;&raquo\; et la revue <em>Salvage\,</em> ainsi que des maisons d&rsquo\;&eacute\;dition comme Verso et Pluto\, qui offrent une plateforme &agrave\; la r&eacute\;g&eacute\;n&eacute\;ration de la pens&eacute\;e socialiste. Pourtant\, ces deux tendances semblent &eacute\;trangement d&eacute\;connect&eacute\;es l&rsquo\;une de l&rsquo\;autre&nbsp\;\; comme deux navires dans la nuit\, les &eacute\;changes entre marxisme fran&ccedil\;ais et marxisme britannique sont passagers\, d&eacute\;pourvus du dynamisme du moment post-communard et post-68. O&ugrave\; en sont les &eacute\;changes entre les deux traditions aujourd&rsquo\;hui&nbsp\;? Comment est-ce que ces pol&eacute\;miques productives du pass&eacute\; peuvent &ecirc\;tre reproduites dans le moment pr&eacute\;sent&nbsp\;?</p>\n<p>La question ici n&rsquo\;est pas enti&egrave\;rement abstraite&nbsp\;\; il y a des raisons concr&egrave\;tes &agrave\; l&rsquo\;importance d&rsquo\;une rencontre entre marxisme fran&ccedil\;ais et britannique aujourd&rsquo\;hui. Pour emprunter un terme d&rsquo\;Althusser\, popularis&eacute\; par Stuart Hall\, les deux pays font face &agrave\; une conjoncture qui partage de nombreuses similarit&eacute\;s. Il y a l&rsquo\;effort de faire revivre le socialisme &agrave\; travers une strat&eacute\;gie populiste\, repr&eacute\;sent&eacute\;e par le Labour de Jeremy Corbyn et par la France Insoumise de Jean-Luc M&eacute\;lenchon \; le retour en force des contestations populaires\, sous la forme d&rsquo\;appels &agrave\; la gr&egrave\;ve g&eacute\;n&eacute\;rale contre les r&eacute\;formes du gouvernement Macron (gilets jaunes) ou des efforts d&rsquo\;Extinction Rebellion pour bloquer la ville de Londres&nbsp\;\; les politiques d&rsquo\;aust&eacute\;rit&eacute\;\, renforc&eacute\;es par quarante ans de n&eacute\;olib&eacute\;ralisme d&eacute\;brid&eacute\; cherchant &agrave\; d&eacute\;faire les derniers vestiges de nos acquis sociaux de l&rsquo\;apr&egrave\;s-guerre&mdash\;et enfin \, l&rsquo\;h&eacute\;ritage du colonialisme et les questions de nation\, de &laquo\;&nbsp\;race&nbsp\;&raquo\; et d&rsquo\;identit&eacute\; qu&rsquo\;il entra&icirc\;ne.</p>\n<p>Ce colloque poursuit donc trois objectifs. Tout d&rsquo\;abord\, il veut explorer l&rsquo\;histoire des &eacute\;changes entre marxisme fran&ccedil\;ais et britannique\, pour enrichir notre compr&eacute\;hension historique des rencontres entre les deux traditions. Deuxi&egrave\;mement\, il se propose d&rsquo\;examiner l&rsquo\;&eacute\;tat pr&eacute\;sent du marxisme en France et en Grande-Bretagne\, en prenant appui sur le retour conjoint de la pens&eacute\;e critique et des mouvements sociaux. Troisi&egrave\;mement\, il souhaiterait explorer les possibilit&eacute\;s latentes de rencontres futures\, essayer d&rsquo\;entrevoir comment chaque tradition peut aider &agrave\; enrichir l&rsquo\;autre en r&eacute\;fl&eacute\;chissant aux questions les plus pressantes de la conjoncture actuelle.</p>\n<p>Les propositions pourront aborder les enjeux suivants&nbsp\;:</p>\n<p>&bull\; Les &eacute\;changes historiques des traditions marxistes en Grande-Bretagne et en France</p>\n<p>&bull\; L&rsquo\;h&eacute\;ritage de la Commune de Paris dont on c&eacute\;l&egrave\;bre les 150 ans en mars</p>\n<p>&bull\; Les projets intellectuels et militants marxistes contemporains</p>\n<p>&bull\; La traduction\, la circulation et la r&eacute\;ception des textes entre les deux pays</p>\n<p>&bull\; L&rsquo\;ascension (et la chute possible) du populisme de gauche</p>\n<p>&bull\; Les mouvements d&rsquo\;&eacute\;mancipation et les mouvements sociaux tels qu&rsquo\;extinction rebellion et les gilets jaunes</p>\n<p>&bull\; La financiarisation et ses critiques marxistes</p>\n<p>&bull\; L&rsquo\;imp&eacute\;rialisme et l&rsquo\;anticolonialisme dans la pens&eacute\;ee marxiste contemporaine\, d&rsquo\;Aim&eacute\; C&eacute\;saire &agrave\; C.L.R James &agrave\; nos jours</p>\n<p>Les propositions (max. 250 mots) sont &agrave\; envoyer &agrave\;marxseminaradmin@riseup.net\, le 9 novembre 2020\, au plus tard. Les communications ne devront pas d&eacute\;passer 20 minutes. Nous acceptons des propositions en anglais ou en fran&ccedil\;ais. Pour les non-francophones les communications seront traduites et circuleront dans la salle. Toutes les informations seront &eacute\;galement disponibles sur le site deCRASSH.</p>\n<p>Organisatrices.eurs : Sakshi Aravind\, (Cambridge) Joe Davidson\, (Cambridge) Louis Klee\, (Cambridge) Marion Leclair\, (Universit&eacute\; d&rsquo\;Artois) Solange Manche (Cambridge)</p>\n<p>&Agrave\; propos du s&eacute\;minaire&nbsp\;:</p>\n<p>Le s&eacute\;minaire Marx &agrave\; Cambridge est n&eacute\; lors d&rsquo\;une rencontre entre ses membres et ceux du s&eacute\;minaire &laquo\;&nbsp\;Lectures de Marx&nbsp\;&raquo\; &agrave\; Paris\, en juillet 2019. Principalement bas&eacute\; au coll&egrave\;ge de King&rsquo\;s College\, le s&eacute\;minaire combine atelier de lecture et interventions de chercheurs sp&eacute\;cialistes\, cr&eacute\;ant ainsi un espace de discussion autour de l&rsquo\;&oelig\;uvre de Marx.</p>\n<p><strong><u>CALL FOR ARTISTS</u></strong></p>\n<p><strong>Online exhibition at CRASSH for the Ships in the Proletarian Night conference</strong></p>\n<p><strong>&nbsp\;</strong></p>\n<p>For our conference\, we are equally looking for artists who would like to contribute to an online exhibition that will be hosted on the website of the Centre for Research in the Arts\, Social Sciences and Humanities (CRASSH\, Cambridge). Given the uncertainty regarding Covid\, we decided to host the exhibition fully online and thus welcome submissions that lend itself to this format. We are looking for work that engages with questions of relevance to our conference\, such as social and political movements\, colonialism\, austerity\, and economics.</p>
ORGANIZER;CN=Sakshi Aravind;CN=Joe Davidson;CN=Louis Klee;CN=Solange Manche:
METHOD:PUBLISH
END:VEVENT
END:VCALENDAR
