BEGIN:VCALENDAR
PRODID:-//Grails iCalendar plugin//NONSGML Grails iCalendar plugin//EN
VERSION:2.0
CALSCALE:GREGORIAN
METHOD:PUBLISH
BEGIN:VEVENT
DTSTAMP:20260423T222225Z
DTSTART;TZID=Europe/London:20201209T040000
DTEND;TZID=Europe/London:20201211T120000
SUMMARY:Understanding Value IX goes online
UID:20260430T180753Z-iCalPlugin-Grails@philevents-web-6b96c54f56-bljdq
TZID:Europe/London
LOCATION:Sheffield\, United Kingdom
DESCRIPTION:<p>We are happy to invite abstracts of<strong> 500 words</strong> prepared for anonymous review to Understanding Value IX (organized by PG students at&nbsp\;the <strong>University of Sheffield</strong>\, UK)\, to be held <strong>online</strong> from the <strong>9th-11th December 2020</strong>. Deadline for submissions is the <strong>3rd of October</strong>\, we anticipate informing applicants about our decision by <strong>3rd of November</strong>. Submissions should be sent to valueconfernece@sheffield.ac.uk</p>\n<p>Since we've originally planned to hold our conference in July\, but had to postpone due to Covid-19\, we realize that some might have already sent us abstracts. We will still consider them if people want\, and will be in touch with applicants directly about this.</p>\n<p>Understanding Value IX is the ninth&nbsp\;instalment of a highly successful postgraduate conference at the University of Sheffield that aims at cultivating postgraduate work on value in a welcoming and inclusive space. As such the University of Sheffield and the organisers of Understanding Value highly encourage submissions from members of underrepresented groups in philosophy. At Understanding Value we are interested in papers addressing issues pertaining to value broadly construed.&nbsp\;&nbsp\;Value permeates many questions in philosophical discourse and as such&nbsp\;we welcome papers from any area of philosophy for consideration.</p>\n<p>You will have to register for this event. Registration will be possible from the 10th of October here: https://www.eventbrite.co.uk/e/understanding-value-ix-online-tickets-119423712539</p>\n<p>See our Call for Papers here: https://philevents.org/event/show/84106</p>\n<p><br>This conference is kindly supported by WRoCAH\, Mind\, SAP\, Analysis and BSHP.</p>
ORGANIZER:
METHOD:PUBLISH
END:VEVENT
END:VCALENDAR
