BEGIN:VCALENDAR
PRODID:-//Grails iCalendar plugin//NONSGML Grails iCalendar plugin//EN
VERSION:2.0
CALSCALE:GREGORIAN
METHOD:PUBLISH
BEGIN:VEVENT
DTSTAMP:20260423T164037Z
DTSTART;TZID=Europe/Berlin:20201015T103000
DTEND;TZID=Europe/Berlin:20201016T130000
SUMMARY:Cognition\, Affection\, and Perception 
UID:20260430T015001Z-iCalPlugin-Grails@philevents-web-6b96c54f56-bljdq
TZID:Europe/Berlin
LOCATION:Online event.\, Bochum\, Germany
DESCRIPTION:<p><strong>Cognition\, Affection\, and Perception</strong><br>1st RUB-UFMG Philosophy Workshop</p>\n<p><strong>Description:&nbsp\;</strong></p>\n<p>Our minds possess the capacity to perceive our surroundings (visually\, acoustically\, etc.)\, but also the capacity to think and cognize\, and the capacity to feel and being emotionally affected. An interesting and much-debated question is how perception and cognition interact. Does cognition penetrate and alter our perceptual uptake of the environment? And if yes\, how? Beside cognitive penetration\, there is an intriguing and much-less discussed question of whether affective and emotional states pentrate and alter our perceptual experience.<br>&nbsp\;</p>\n<p>Such questions constitute the main topics of the 1st&nbsp\;RUB-UFMG Philosophy workshop. Philosophers from the Ruhr-Universit&auml\;t Bochum and from the Universidade Federal de Minas Gerais will discuss and comment each others works.&nbsp\;</p>\n<p>Schedule:&nbsp\;</p>\n<ul>\n<li><strong>15 October</strong></li>\n</ul>\n<p><strong>&nbsp\;</strong>14:30 &ndash\; 15:30 Albert Newen (RUB) -<em> Perception and Cognition Are Not Clearly Divided but Systematically Intertwined&nbsp\;</em><br>Commentator: Marco Aur&eacute\;lio Alves (UFSJ)</p>\n<p>15:30 &ndash\; 16:30 Felipe Carvalho (UFMG) -&nbsp\;<em>Fearful Object Seeing and Defensive Organismic States</em><br>Commentator: Francesco Marchi (Antwerp)</p>\n<ul>\n<li><strong>16 October</strong></li>\n</ul>\n<p><strong>&nbsp\;</strong>14:30 &ndash\; 15:30 Andr&eacute\; Abath (UFMG) -&nbsp\;<em>On Having a Concept and Knowing What Something Is</em><br>Commentator: Guido Robin L&ouml\;hr (RUB &ndash\; Radboud)</p>\n<p>15:30 &ndash\; 16:30 Alfredo Vernazzani (RUB) -&nbsp\;<em>How Artworks Modify Our Perception of the Everyday</em><br>Commentator: Veronica de Souza Campos (UFMG)</p>\n<p><strong><br>All times are CET!<br><br><br>Where?<br></strong>The workshop will run on Zoom. <br>If you would like to participate\, please send an email to&nbsp\;ufmgfilosvirtual@gmail.com&nbsp\;to register!</p>
ORGANIZER;CN=Felipe Nogueira de Carvalho;CN=Alfredo Vernazzani:
METHOD:PUBLISH
END:VEVENT
END:VCALENDAR
