BEGIN:VCALENDAR
PRODID:-//Grails iCalendar plugin//NONSGML Grails iCalendar plugin//EN
VERSION:2.0
CALSCALE:GREGORIAN
METHOD:PUBLISH
BEGIN:VEVENT
DTSTAMP:20260421T230048Z
DTSTART;TZID=America/Argentina/Buenos_Aires:20200928T140000
DTEND;TZID=America/Argentina/Buenos_Aires:20201204T120000
SUMMARY:Construyendo puentes entre la filosofía y la neurociencia (Spanish & English)
UID:20260424T173428Z-iCalPlugin-Grails@philevents-web-6b96c54f56-bljdq
TZID:America/Argentina/Buenos_Aires
LOCATION:online\, Buenos Aires\, Argentina
DESCRIPTION:<p>SEMINARIO DE CONSCIENCIA - Lunes 28 de Septiembre a las 18hs (Spanish)</p>\n<p>Dr. Miguel &Aacute\;ngel Sebasti&aacute\;n (Fil&oacute\;sofo): Procesamiento de informaci&oacute\;n y consciencia.<br> Instituto de Investigaciones Filos&oacute\;ficas\, Universidad Nacional Aut&oacute\;noma de M&eacute\;xico.<br>Dr. Enzo Tagliazzucchi (F&iacute\;sico): &iquest\;C&oacute\;mo comparar experiencias conscientes?<br> Instituto de F&iacute\;sica de Buenos Aires - CONICET.</p>\n<p>Youtube:&nbsp\;https://www.youtube.com/watch?v=D4-ZLs5jAM0</p>\n<p><br><br>SEMINARIO DE SUE&Ntilde\;O - Lunes 26 de octubre\, 18hs (English)<br><br>Dra. Melanie Rosen (Fil&oacute\;sofa): Sex\, lies\, and dream reports.<br> Trent University.<br>Dr. Felipe Beijamini (Bi&oacute\;logo): Sleep your problem away: neuroscience of sleep and problem-solving. <br> Universidade Federal da Fronteira Sul.</p>\n<p>Youtube:&nbsp\;https://www.youtube.com/watch?v=GEtkvmNX6ow</p>\n<p><br><br>SEMINARIO DE MEMORIA - Lunes 30 de noviembre a las 18hs (UTC-3) (English)<br><br>Dra. Sarah Robins (Fil&oacute\;sofa): The Memory Trace in Philosophy and Neuroscience.<br> University of Kansas.<br>Dra. Mar&iacute\;a Eugenia Pedreira (Bi&oacute\;loga): TBA<br> Instituto de Fisiolog&iacute\;a\, Biolog&iacute\;a Molecular y Neurociencias\, Universidad de Buenos Aires.</p>\n<p>Join Zoom Meeting https://zoom.us/j/91928047860pwd=bmRIMk8zTkpvb21nU2FJcW5QMmd1dz09 <br> Meeting ID: 919 2804 7860 Passcode: 098095&nbsp\;</p>\n<p><br>Youtube: https://www.youtube.com/watch?v=kEuXVJZ2ecU&nbsp\;</p>\n<p><br>SEMINARIO CIERRE DEL A&Ntilde\;O: INTEGRACI&Oacute\;N DE LA FILOSOF&Iacute\;A Y LAS NEUROCIENCIAS EN LA INVESTIGACI&Oacute\;N SOBRE LA MEMORIA - Viernes 4 de Diciembre a las 10:30hs (UTC-3) (Spanish)</p>\n<p>Dr. Felipe de Brigard (Fil&oacute\;sofo y Neurocient&iacute\;fico): Recuerdos falsos y pensamiento contraf&aacute\;ctico.<br> Duke University.&nbsp\;&nbsp\; &nbsp\;</p>\n<p>Join Zoom Meeting<br> https://zoom.us/j/98917546149?pwd=WEhENXhhSEdmZHhISzJmMUJuajlWUT09<br>Meeting ID: 989 1754 6149&nbsp\; &nbsp\; Passcode: 562914&nbsp\;&nbsp\;</p>\n<p><br> Youtube:&nbsp\;https://www.youtube.com/watch?v=qMOlvb77FcA&nbsp\;&nbsp\;</p>\n\n\n<p>Organizers: &nbsp\;</p>\n<p>Dra. Cecilia Forcato. Investigadora Adjunta CONICET.<br> Lab. de Sue&ntilde\;o y Memoria\, Depto de Ciencias de la Vida\, Instituto Tecnol&oacute\;gico Buenos Aires (ITBA).&nbsp\; &nbsp\;<br> Dra. Marina Trakas. Investigadora posdoctoral CONICET.<br> Instituto de Investigaciones Filos&oacute\;ficas\, Sociedad Argentina de An&aacute\;lisis Filos&oacute\;fico (IIF-SADAF). &nbsp\;</p>
ORGANIZER:
METHOD:PUBLISH
END:VEVENT
END:VCALENDAR
