BEGIN:VCALENDAR
PRODID:-//Grails iCalendar plugin//NONSGML Grails iCalendar plugin//EN
VERSION:2.0
CALSCALE:GREGORIAN
METHOD:PUBLISH
BEGIN:VEVENT
DTSTAMP:20260421T210841Z
DTSTART;TZID=America/Argentina/Buenos_Aires:20200928T140000
DTEND;TZID=America/Argentina/Buenos_Aires:20200928T160000
SUMMARY:CONSCIENCIA (in Spanish)
UID:20260424T110053Z-iCalPlugin-Grails@philevents-web-6b96c54f56-bljdq
TZID:America/Argentina/Buenos_Aires
LOCATION:online\, Buenos Aires\, Argentina
DESCRIPTION:<p>SEMINARIO DE CONSCIENCIA - Lunes 28 de Septiembre a las 18hs (in Spanish)</p>\n<p>Speakers:</p>\n<p>Dr. Miguel &Aacute\;ngel Sebasti&aacute\;n (Fil&oacute\;sofo): Procesamiento de informaci&oacute\;n y consciencia.<br> Instituto de Investigaciones Filos&oacute\;ficas\, Universidad Nacional Aut&oacute\;noma de M&eacute\;xico.</p>\n<p>Dr. Enzo Tagliazzucchi (F&iacute\;sico): &iquest\;C&oacute\;mo comparar experiencias conscientes?<br> Instituto de F&iacute\;sica de Buenos Aires - CONICET.</p>\n<p>Registration:&nbsp\;https://forms.gle/72CbmfJe281zc1dUA&nbsp\;</p>\n<p><br><br></p>
ORGANIZER:
METHOD:PUBLISH
END:VEVENT
END:VCALENDAR
