BEGIN:VCALENDAR
PRODID:-//Grails iCalendar plugin//NONSGML Grails iCalendar plugin//EN
VERSION:2.0
CALSCALE:GREGORIAN
METHOD:PUBLISH
BEGIN:VEVENT
DTSTAMP:20260421T083529Z
DTSTART;TZID=Asia/Tokyo:20210108T040000
DTEND;TZID=Asia/Tokyo:20210110T120000
SUMMARY:An Encounter in Non-Standard Philosophy: Laruelle and the Kyoto School
UID:20260422T210334Z-iCalPlugin-Grails@philevents-web-6b96c54f56-bljdq
TZID:Asia/Tokyo
LOCATION:Tokyo\, Japan
DESCRIPTION:<p>This conference examines themes\, methods and constructive possibilities linking Fran&ccedil\;ois Laruelle&rsquo\;s non-standard philosophy with the work of the philosophers of the Kyoto School including but not limited to Kitarō Nishida\, Hajime Tanabe\, Jun Tosaka\, Keiji Nishitani and Miki Kiyoshi. Topics for proposed papers are free to focus on metaphysical\, epistemological\, ethical or aesthetic questions and may involve comparative studies of Laruelle and specific thinkers from the Kyoto School regarding such themes as:</p>\n<ul>\n<li><strong>Shinran Buddhism</strong></li>\n<li><strong>Basho</strong></li>\n<li><strong>Nothingness</strong></li>\n<li><strong>Zen</strong></li>\n<li><strong>Mu</strong></li>\n<li><strong>Radical Immanence</strong></li>\n<li><strong>Sufficient Philosophy</strong></li>\n<li><strong>Philosophical Decision</strong></li>\n<li><strong>The Real and the One</strong></li>\n</ul>\n<p>Analyses of commonalities or points of divergence between the respective approaches\, or connections between more recent applications of these distinct modes of thought are also appropriate. Papers that examine how the practices of thinking involved in Laruelle&rsquo\;s work and that of the Kyoto school transform traditional understandings of the act and content of philosophy are especially welcome.</p>\n<p><strong><br></strong></p>\n<p><strong>KEYNOTE SPEAKER: </strong>Anne-Fran&ccedil\;oise Schmid (Paris Tech)</p>\n<p><strong>&nbsp\;</strong></p>\n<p><strong>CONFERENCE DEADLINES</strong></p>\n<ul>\n<li>Abstract submission deadline: October 31st\, 2020</li>\n<li>Proposal acceptance notification: November 15th\, 2020</li>\n<li>300-500 word abstracts stating an academic position or professional affiliation&nbsp\;should be submitted to&nbsp\;<strong>nonphi_japan@tuj.temple.edu</strong>&nbsp\;and/or&nbsp\;<strong>philseries@tuj.temple.edu&nbsp\;</strong></li>\n</ul>\n<p><strong><br></strong></p>\n<p>The conference will be held online via Zoom. Papers presented at the conference will be eligible for publication in a proposed edited volume. Additional contributions for the volume will be solicited after the event.</p>\n<p><strong><br></strong></p>\n<p><strong>Contact Us: philseries@tuj.temple.edu&nbsp\;</strong></p>\n<p><strong>Twitter&nbsp\;@TUJPhil&nbsp\;</strong></p>\n<p><strong>TUJ PHILOSOPHY LECTURE SERIES&nbsp\;</strong></p>\n<p><strong></strong>Non-profit forum of Temple University Japan&nbsp\;</p>
ORGANIZER;CN=Rocco Gangle;CN=Jordanco Sekulovski:
METHOD:PUBLISH
END:VEVENT
END:VCALENDAR
