BEGIN:VCALENDAR
PRODID:-//Grails iCalendar plugin//NONSGML Grails iCalendar plugin//EN
VERSION:2.0
CALSCALE:GREGORIAN
METHOD:PUBLISH
BEGIN:VEVENT
DTSTAMP:20260422T004519Z
DTSTART;TZID=America/Argentina/Buenos_Aires:20201026T140000
DTEND;TZID=America/Argentina/Buenos_Aires:20201026T160000
SUMMARY:Melanie Rosen & Felipe Beijamini on Dreams and Sleeping
UID:20260424T222117Z-iCalPlugin-Grails@philevents-web-6b96c54f56-bljdq
TZID:America/Argentina/Buenos_Aires
LOCATION:online\, Buenos Aires\, Argentina
DESCRIPTION:<p>We are happy to announce the next session of our monthly seminar "Construyendo puentes entre la filosof&iacute\;a y la neurociencia" ("Building Bridges between Philosophy and Neuroscience"):</p>\n<p><br> Dr. Melanie Rosen (Philosopher): Sex\, lies\, and dream reports.<br> Trent University.<br>Dr. Felipe Beijamini (Biologist): Sleep your problem away: neuroscience of sleep and problem-solving. <br> Universidade Federal da Fronteira Sul.&nbsp\; &nbsp\;</p>\n<p>The session will take place Monday the 26th October at 6pm (UTC-3). The talks and discussion will be in English. You can register here: https://forms.gle/gGR9HhL9zax5RWVf6 You will receive the link to join us one day before our meeting.&nbsp\;</p>\n<p><br> Organizers:<br>Dr. Cecilia Forcato (Biologist). Associate Researcher CONICET.<br> Lab. de Sue&ntilde\;o y Memoria\, Depto de Ciencias de la Vida\, Instituto Tecnol&oacute\;gico Buenos Aires (ITBA).<br>Dr. Marina Trakas (Philosopher). Postdoctoral Fellow CONICET.<br> Instituto de Investigaciones Filos&oacute\;ficas\, Sociedad Argentina de An&aacute\;lisis Filos&oacute\;fico (IIF-SADAF).</p>
ORGANIZER:
METHOD:PUBLISH
END:VEVENT
END:VCALENDAR
