BEGIN:VCALENDAR
PRODID:-//Grails iCalendar plugin//NONSGML Grails iCalendar plugin//EN
VERSION:2.0
CALSCALE:GREGORIAN
METHOD:PUBLISH
BEGIN:VEVENT
DTSTAMP:20260421T164232Z
DTSTART;TZID=Europe/London:20211011T053000
DTEND;TZID=Europe/London:20211012T170000
SUMMARY:2nd Young Scholars Pragmatism Conference: Inquiry\, Science\, Truth
UID:20260423T210938Z-iCalPlugin-Grails@philevents-web-6b96c54f56-bljdq
TZID:Europe/London
LOCATION:Cambridge\, United Kingdom
DESCRIPTION:<p>The 2nd Young Scholars Pragmatism Conference\, titled "Inquiry\, Science\, Truth" will take place at the University of Cambridge on 11-12 October 2021. The conference will be a hybrid format of online and in-person talks. All of the talks will be streamed online. This conference aims at giving an opportunity to graduate students and young scholars working on pragmatism to present and discuss their work with one another\, thereby creating a network of academic and personal relationships\; and exploring central issues in philosophy of knowledge\, science\, and language from a pragmatist point of view. This conference will be the second edition of the Young Scholars Pragmatism Conference\, whose first edition took place in January 2018 in Paris.</p>\n<p>Organizing committee:</p>\n<p>C&eacute\;line Henne (Cambridge)\, Oscar Westerblad (Cambridge)\, Bobby Vos (Cambridge)</p>\n<p>Programme committee:</p>\n<p>C&eacute\;line Henne (Cambridge)\, Oscar Westerblad (Cambridge)\, Bobby Vos (Cambridge)\, Miguel Ohnesorge (Cambridge)\, Sarah Hijmans (Paris 7 Diderot)</p>
ORGANIZER;CN="Céline Henne":
METHOD:PUBLISH
END:VEVENT
END:VCALENDAR
