BEGIN:VCALENDAR
PRODID:-//Grails iCalendar plugin//NONSGML Grails iCalendar plugin//EN
VERSION:2.0
CALSCALE:GREGORIAN
METHOD:PUBLISH
BEGIN:VEVENT
DTSTAMP:20260424T054559Z
DTSTART;TZID=America/New_York:20130427T100000
DTEND;TZID=America/New_York:20130427T180000
SUMMARY:Princeton-Penn-Columbia Graduate Conference in the History of Philosophy
UID:20260424T103725Z-iCalPlugin-Grails@philevents-web-6b96c54f56-bljdq
TZID:America/New_York
LOCATION:Princeton\, United States
DESCRIPTION:<p>Any questions can be directed to Timothy Stoll\, tstoll@princeton.edu</p>
ORGANIZER:
METHOD:PUBLISH
END:VEVENT
END:VCALENDAR
