BEGIN:VCALENDAR
PRODID:-//Grails iCalendar plugin//NONSGML Grails iCalendar plugin//EN
VERSION:2.0
CALSCALE:GREGORIAN
METHOD:PUBLISH
BEGIN:VEVENT
DTSTAMP:20260422T093022Z
DTSTART;TZID=Europe/Zurich:20210422T180000
DTEND;TZID=Europe/Zurich:20210422T193000
SUMMARY:The Paradox of Emapthy
UID:20260425T191215Z-iCalPlugin-Grails@philevents-web-6b96c54f56-bljdq
TZID:Europe/Zurich
LOCATION:Via Giuseppe Buffi 13\, Lugano\, Switzerland
DESCRIPTION:<p>What is the Paradox of Empathy? L. A. Paul (Professor of Philosophy and Cognitive Science at Yale) will give an online talk presenting an original view on this issue on April 22 at 6pm (CET).</p>\n<p>The talk will be chaired by Alain Pe-Curto (Postdoctoral Fellow at Yale).</p>\n<p>Title of the talk: &lsquo\;The Paradox of Empathy&rsquo\;.</p>\n<p>The talk will be held both on Zoom and Facebook. To receive the link to the Zoom meeting\, you can either send a message to our Facebook page or write an email to amm.map@usi.ch. Join us!</p>\n<p>Have a look at the abstract of the talk:</p>\n<p>A commitment to truth requires that you are open to receiving new evidence even if that evidence contradicts your current beliefs. You should be open to changing your mind. However\, this truism gives rise to the paradox of empathy. The paradox arises with the possibility of mental corruption through transformative change\, and has consequences for how we should understand tolerance\, disagreement\, and the ability to have an open mind. I close with a discussion of how understanding this paradox provides a new explanation for a certain kind of standoff between the believer and the skeptic with regard to religious belief.</p>\n<p>This talk is part of the Lugano Philosophy Colloquia - a series of events organised by:</p>\n<p>- Master in Philosophy at USI</p>\n<p>- Ratio - philosophical association&nbsp\;</p>\n<p>- Istituto di Studi Filosofici\, Lugano</p>
ORGANIZER:
METHOD:PUBLISH
END:VEVENT
END:VCALENDAR
