BEGIN:VCALENDAR
PRODID:-//Grails iCalendar plugin//NONSGML Grails iCalendar plugin//EN
VERSION:2.0
CALSCALE:GREGORIAN
METHOD:PUBLISH
BEGIN:VEVENT
DTSTAMP:20260419T211704Z
DTSTART;TZID=Europe/Belgrade:20211116T093000
DTEND;TZID=Europe/Belgrade:20211117T170000
SUMMARY:Philosophy Students’ Symposium 2021
UID:20260422T121540Z-iCalPlugin-Grails@philevents-web-f5d4878dd-nv7xt
TZID:Europe/Belgrade
LOCATION:Koroška cesta 160\, Maribor\, Slovenia
DESCRIPTION:<p>The Department of Philosophy (Faculty of Arts\, University of Maribor)\, its students\, and The Slovenian Society for Analytic Philosophy (DAF) are honoured to invite any graduate and PhD students to the <strong>sixth annual international Philosophy Students&rsquo\; Symposium.</strong></p>\n\n<p>The event will take place on the 16th and 17th of November 2021. </p>\n\n<p>In order to apply you must send us an abstract of your work\, approximately <strong>500 words</strong> long (suitable for a 20&ndash\;30 min presentation). Send your abstract and your personal information (name\, surname\, department\, faculty\, university\, e-mail\, degree) in two separate files\, ready for a blind review\, by <strong>July 31</strong>\, to the following e-mail: <a href="mailto:filozofski.simpozij@gmail.com">filozofski.simpozij@gmail.com</a>. </p>\n\n<p><strong>The topic this year is limited to <u>analytic philosophy</u> from all possible angles. We would appreciate it if the abstracts sent were in the English language\, as that will be the official working language of the conference.</strong></p>\n\n<p><strong><u>Conference fee is 10&euro\;.</u></strong></p>\n\n<p>The selection of papers eligible for the presentation will have been made by <strong>September 10</strong>\, when all the accepted applicants will be notified.</p>\n\n<p><strong>If enough participants will be interested\, they will be given an opportunity to publish their work in a peer reviewed student compendium\, reviewed by Faculty professors. </strong></p>\n\n<p>Please\, if you have any further questions\, do not hesitate to contact us. We look forward to your applications.</p>\n\n<p>Sincerely\,</p>\n<p><br> Students of the Department of Philosophy\, Faculty of Arts\, University of Maribor</p>\n<p>and</p>\n<p>DAF\, Slovenian Society for Analytic Philosophy</p>
ORGANIZER;CN="Tadej Todorović":
METHOD:PUBLISH
END:VEVENT
END:VCALENDAR
