BEGIN:VCALENDAR
PRODID:-//Grails iCalendar plugin//NONSGML Grails iCalendar plugin//EN
VERSION:2.0
CALSCALE:GREGORIAN
METHOD:PUBLISH
BEGIN:VEVENT
DTSTAMP:20260422T235652Z
DTSTART;TZID=Europe/Paris:20130711T110000
DTEND;TZID=Europe/Paris:20130713T180000
SUMMARY:Kurt Gödel\, philosopher: From Logic to Cosmology
UID:20260428T030844Z-iCalPlugin-Grails@philevents-web-6b96c54f56-bljdq
TZID:Europe/Paris
LOCATION:Aix-en-Provence\, France
DESCRIPTION:<p>Universit&eacute\; Aix-Marseille CEPERC (AMU\, CNRS) IHPST (Paris 1/CNRS/ENS) SND (Paris 4/CNRS)</p>\n<p>G&ouml\;del&rsquo\;s writings published during his lifetime show his dual interest in scientific questions and in fundamental philosophical questions. The posthumous publication of certain manuscripts and talks enables one better to understand this double interest in science and in philosophy. On the one hand\, G&ouml\;del developed most of his scientific results in order to solve or clarify certain philosophical questions. On the other hand\, his scientific work in the foundations of mathematics and in cosmology enriched his philosophical thought on\, for example\, the a priori classification of philosophical systems\, and on the relations between the notions of concept and object. Hence\, not only did G&ouml\;del\, as is well known\, believe that philosophy might become an exact theory\,&nbsp\; provided that one does for metaphysics what Newton did for physics\; he should moreover be aligned with Descartes\, Leibniz\, and other early modern philosophers who believed that science and philosophy are inseparable.</p>\n<p>The conference will explore several features of G&ouml\;del&rsquo\;s philosophy that emerge from the unpublished manuscripts Max-Phil\, which have been partly transcribed by the research group directed by Gabriella Crocco at CEPERC (Universit&eacute\; Aix-Marseille). The presentation of the complete transcriptions of Max-Phil IX-XV will be accompanied by an exploration of G&ouml\;del&rsquo\;s philosophy of logic\, mathematics\, and physics by international specialists and young G&ouml\;del scholars.</p>\n<p>The official language of the Conference is English.</p>\n<p>The conference is supported by the Centre d&rsquo\;Epist&eacute\;mologie et d&rsquo\;Ergologie Comparative (CEPER UMR 7304) de l&rsquo\;Universit&eacute\; Aix-Marseille\, by the Institut d&rsquo\;Histoire et de Philosophie des Sciences et des Techniques (IHPST UMR 8590) de l&rsquo\;Universit&eacute\; Paris1 Panth&eacute\;on Sorbonne\, and the Institute Sciences\, Normes\, D&eacute\;cision (SND FRE 3593) de l&rsquo\;Universit&eacute\; Paris 4 Pierre et Marie Curie. Organizers: Gabriella Crocco (CEPERC\, Universit&eacute\; Aix-Marseille)\, Pierre Kerszberg (IHPST\, Universit&eacute\; Paris 1 / CNRS)\, Mark Van Atten (SND\, Universit&eacute\; Paris 4 / CNRS)\, Eric Audureau (CEPERC\, Universit&eacute\; Aix-Marseille / CNRS)\, Paola Cant&ugrave\;\, (CEPERC\, Universit&eacute\; Aix-Marseille / CNRS)\, Eva-Maria Engelen (CEPERC\, Universit&eacute\; Aix-Marseille / Universit&auml\;t Konstanz\, Germany).</p>\n<p>Scientific committee: John Dawson (Pennsylvania State University\, USA)\, Akihiro Kanamori (Boston University\, USA)\, Eberhard Knobloch (Technische Universit&auml\;t Berlin\, Germany)\, G&ouml\;ran Sundholm (Universiteit Leiden\, Netherlands)\, Richard Tieszen (California State University\, San Jos&eacute\;\, USA)\, Gabriella Crocco (CEPERC\, Universit&eacute\; Aix-Marseille)\, Pierre Kerszberg (IHPST\, Universit&eacute\; Paris 1 /CNRS)\, Mark Van Atten (SND\, Universit&eacute\; Paris 4 / CNRS)\, Eric Audureau (CEPERC\, Universit&eacute\; Aix-Marseille / CNRS)\, Paola Cant&ugrave\; (CEPERC\, Universit&eacute\; Aix-Marseille /CNRS)\, Eva-Maria Engelen (CEPERC\, Universit&eacute\; Aix-Marseille / Universit&auml\;t Konstanz\, Germany). For further information please contact: goedelphilosopher2013 (at) gmail (dot) com</p>\n<p>Students who want to attend the conference may apply for a travel grant amounting to a maximum of 300 Euro per person.<br><br>To apply\, send an e-mail to&nbsp\;goedelphilosopher2013@gmail.com&nbsp\;no later than&nbsp\;May 30th\, containing :</p>\n<ul>\n<li>your CV (in particular your research topic\, advisor\, list of publications\, etc.)</li>\n<li>1-page statement about why you wish to attend the conferenceThe subject line of your message should include the expression: Travel Grant Application.</li>\n</ul>\n<p>The winners will be notified by e-mail by the&nbsp\;June 10th. We are looking forward to your applications.</p>\n<p><strong>Thursday July 11\, 2013</strong></p>\n<p>9h-9h30 Registration &amp\; Reception</p>\n<p>9h30-10h15 Word of Welcome by the Organizers and Presentation of the Conference</p>\n<p>10h15-11h30 Gabriella CROCCO (Aix-Marseille Universit&eacute\;\, France)<br>G&ouml\;del&rsquo\;s Philosophical Manuscripts and the ANR Project&nbsp\;</p>\n<p>11h30-12h00 Coffee Break</p>\n<p>12h00-12h45 Oran MAGAL (McGill University\, Canada)<br>Intensional vs. Extensional Formal Theories and G&ouml\;del&rsquo\;s &lsquo\;Theory of Concepts&rsquo\;</p>\n<p>13h00-15h00 Lunch</p>\n<p>15h15h-16h30 John DAWSON (Pennsylvania State University\, USA)<br>What Have We Learned from the G&ouml\;del Nachla&szlig\; and What More May It Have to Offer?</p>\n<p>16h30-17h15 Am&eacute\;lie MERTENS (Aix-Marseille Universit&eacute\;\, France)<br>G&ouml\;del&rsquo\;s Distinction between Subjectivity and Objectivity of Concepts from the Analysis of One Particular Remark of the Max-Phil Manuscripts</p>\n<p>17h15-17h45 Coffee Break</p>\n<p>17h45-18h30 Montgomery LINK (Suffolk University\, USA)<br>An Aspect of G&ouml\;del&rsquo\;s Basic Philosophical Outlook</p>\n<p><strong>Friday July 12\, 2013</strong></p>\n<p>9h00-10h15 Massimo MUGNAI (Scuola Normale Superiore\, Pisa\, Italy)<br>Leibniz and G&ouml\;del&nbsp\;</p>\n<p>10h15-11h00 Paul WEINGARTNER and Silvia HARING (Salzburg University\, Austria)<br>On the Compatibility of Evil and Freedom</p>\n<p>11h00-11h30 Coffee Break</p>\n<p>11h30-12h15 Julien BERNARD (Aix-Marseille Universit&eacute\;\, France)<br>How Did G&ouml\;del Interpret the Problems of Modern Microscopical Physics Through His Monadology?<br><br>12h15-13h00 Srećko KOVAČ (Institute of Philosophy\, Zagreb\, Croatia)<br>Causality as a Central Concept of Goedel&rsquo\;s Philosophy</p>\n<p>13h15-15h15 Lunch</p>\n<p>15h30-16h45 Eberhard KNOBLOCH (Technische Universit&auml\;t\, Berlin\, Germany)<br>Leibniz&rsquo\;s Conception of a General Characteristic Art or Combinatorial Art: Leibnizean Examples</p>\n<p>16h45-17h15 Coffee Break&nbsp\;</p>\n<p>17h15-18h30 G&ouml\;ran SUNDHOLM (Leyden University\, The Netherlands)<br>Kurt G&ouml\;del\, Ontological Descriptivist</p>\n<p><strong>Saturday July 13\, 2013</strong></p>\n<p>9h00-10h15 Akihiro KANAMORI (Boston University\, USA)<br>Set Theory and Philosophy</p>\n<p>10h15-11h00 Claudio TERNULLO (Kurt G&ouml\;del Research Center\, Vienna\, Austria)&nbsp\;<br>G&ouml\;del&rsquo\;s Cantorianism</p>\n<p>11h00-11h30 Coffee Break</p>\n<p>11h30-12h15 Jan VON PLATO (Helsinki University\, Finland)<br>G&ouml\;del and the Main Problem of Foundations</p>\n<p>12h30-14h30 Lunch</p>\n<p>14h45-15h30 Nuno JER&Oacute\;NIMO (Lisbon University\, Portugal / Paris I University\, France)<br>The Influence of Mathematics upon Philosophy: G&ouml\;del and Rota</p>\n<p>15h30-16h45 Richard TIESZEN (California University\, USA)<br>Monads and Mathematics: G&ouml\;del\, Leibniz and Husserl<br><br>Organizing Committee: Eric Audureau\, Paola Cant&ugrave\;\, Gabriella Crocco\, Eva-Maria Engelen\, Pierre Kerszberg\, Mark Van Atten.<br>Partenariat: Universit&eacute\; Aix-Marseille\, CEPERC Centre d&rsquo\;EPist&eacute\;mologie et d&rsquo\;ERgologie Comparatives (AMU\, CNRS)\, IHPST Institut d&rsquo\;Histoire et de Philosophie des Sciences et des Techniques (Paris 1/CNRS/ENS)\, SND Sciences\, Normes\, D&eacute\;cision Paris 4/CNRS).</p>\n<p>Mail Address:&nbsp\;<a#1155cc\;"  href="mailto:GoedelPhilosopher2013%40gmail.com"  target="_blank">GoedelPhilosopher2013@gmail.com</a></p>\n<p>Registration Required: Deadline&nbsp\;June 30\, 2013.<br>Student Grants: Application Deadline&nbsp\;May 30\, 2013.</p>\n<p>Website:</p>
ORGANIZER:
METHOD:PUBLISH
END:VEVENT
END:VCALENDAR
