BEGIN:VCALENDAR
PRODID:-//Grails iCalendar plugin//NONSGML Grails iCalendar plugin//EN
VERSION:2.0
CALSCALE:GREGORIAN
METHOD:PUBLISH
BEGIN:VEVENT
DTSTAMP:20260423T013313Z
DTSTART;TZID=Europe/London:20130414T110000
DTEND;TZID=Europe/London:20130414T110000
SUMMARY:Kurt Gödel\, philosopher: From Logic to Cosmology
UID:20260428T070817Z-iCalPlugin-Grails@philevents-web-6b96c54f56-bljdq
TZID:Europe/London
LOCATION:Aix-en-Provence\, France
DESCRIPTION:<p>Universit&eacute\; Aix-Marseille CEPERC (AMU\, CNRS) IHPST (Paris 1/CNRS/ENS) SND (Paris 4/CNRS)</p>\n<p>G&ouml\;del&rsquo\;s writings published during his lifetime show his dual interest in scientific questions and in fundamental philosophical questions. The posthumous publication of certain manuscripts and talks enables one better to understand this double interest in science and in philosophy. On the one hand\, G&ouml\;del developed most of his scientific results in order to solve or clarify certain philosophical questions. On the other hand\, his scientific work in the foundations of mathematics and in cosmology enriched his philosophical thought on\, for example\, the a priori classification of philosophical systems\, and on the relations between the notions of concept and object. Hence\, not only did G&ouml\;del\, as is well known\, believe that philosophy might become an exact theory\,&nbsp\; provided that one does for metaphysics what Newton did for physics\; he should moreover be aligned with Descartes\, Leibniz\, and other early modern philosophers who believed that science and philosophy are inseparable.</p>\n<p>The conference will explore several features of G&ouml\;del&rsquo\;s philosophy that emerge from the unpublished manuscripts Max-Phil\, which have been partly transcribed by the research group directed by Gabriella Crocco at CEPERC (Universit&eacute\; Aix-Marseille). The presentation of the complete transcriptions of Max-Phil IX-XV will be accompanied by an exploration of G&ouml\;del&rsquo\;s philosophy of logic\, mathematics\, and physics by international specialists and young G&ouml\;del scholars.</p>\nSubmissions for individual contributions are invited on the interaction between science and philosophy in G&ouml\;del&rsquo\;s writings. Topical strands may include:\n\n<ol>\n<li>human will and God&rsquo\;s omnipotence</li>\n<li>G&ouml\;del&rsquo\;s remarks on philosophical systems</li>\n<li>the notions of concepts and objects</li>\n<li>the distinction between subjective and objective analysis of the real</li>\n<li>the relations between G&ouml\;del&rsquo\;s theory of concepts and his scientific results</li>\n<li>time and matter</li>\n<li>evil and freedom</li>\n<li>G&ouml\;del&rsquo\;s conception of mathematics in its relation to philosophy</li>\n</ol>\n<p>Potential contributors will have to submit a title\, a short abstract (max. 200 words) and&nbsp\;an extended abstract (1000 words)\, ready for blind refereeing. The&nbsp\;abstracts should be&nbsp\;sent to the following address: goedelphilosopher2013 (at) gmail&nbsp\;(dot) com. The official&nbsp\;language of the Conference is English.&nbsp\;</p>\n<p>Submission deadline: April 14\, 2013 (notifications will be sent by&nbsp\;mid-May 2013)</p>\n<p>The official language of the Conference is English.</p>\n<p>The conference is supported by the Centre d&rsquo\;Epist&eacute\;mologie et d&rsquo\;Ergologie Comparative (CEPER UMR 7304) de l&rsquo\;Universit&eacute\; Aix-Marseille\, by the Institut d&rsquo\;Histoire et de Philosophie des Sciences et des Techniques (IHPST UMR 8590) de l&rsquo\;Universit&eacute\; Paris1 Panth&eacute\;on Sorbonne\, and the Institute Sciences\, Normes\, D&eacute\;cision (SND FRE 3593) de l&rsquo\;Universit&eacute\; Paris 4 Pierre et Marie Curie. Organizers: Gabriella Crocco (CEPERC\, Universit&eacute\; Aix-Marseille)\, Pierre Kerszberg (IHPST\, Universit&eacute\; Paris 1 / CNRS)\, Mark Van Atten (SND\, Universit&eacute\; Paris 4 / CNRS)\, Eric Audureau (CEPERC\, Universit&eacute\; Aix-Marseille / CNRS)\, Paola Cant&ugrave\;\, (CEPERC\, Universit&eacute\; Aix-Marseille / CNRS)\, Eva-Maria Engelen (CEPERC\, Universit&eacute\; Aix-Marseille / Universit&auml\;t Konstanz\, Germany).</p>\n<p>Scientific committee: John Dawson (Pennsylvania State University\, USA)\, Akihiro Kanamori (Boston University\, USA)\, Eberhard Knobloch (Technische Universit&auml\;t Berlin\, Germany)\, G&ouml\;ran Sundholm (Universiteit Leiden\, Netherlands)\, Richard Tieszen (California State University\, San Jos&eacute\;\, USA)\, Gabriella Crocco (CEPERC\, Universit&eacute\; Aix-Marseille)\, Pierre Kerszberg (IHPST\, Universit&eacute\; Paris 1 /CNRS)\, Mark Van Atten (SND\, Universit&eacute\; Paris 4 / CNRS)\, Eric Audureau (CEPERC\, Universit&eacute\; Aix-Marseille / CNRS)\, Paola Cant&ugrave\; (CEPERC\, Universit&eacute\; Aix-Marseille /CNRS)\, Eva-Maria Engelen (CEPERC\, Universit&eacute\; Aix-Marseille / Universit&auml\;t Konstanz\, Germany). For further information please contact: goedelphilosopher2013 (at) gmail (dot) com Conference website:</p>
ORGANIZER:
METHOD:PUBLISH
END:VEVENT
END:VCALENDAR
