BEGIN:VCALENDAR
PRODID:-//Grails iCalendar plugin//NONSGML Grails iCalendar plugin//EN
VERSION:2.0
CALSCALE:GREGORIAN
METHOD:PUBLISH
BEGIN:VEVENT
DTSTAMP:20260423T154328Z
DTSTART;TZID=America/New_York:20120414T150000
DTEND;TZID=America/New_York:20120414T230000
SUMMARY:Spring 2012 Meeting of the Eastern Pennsylvania Philosophical Association (EPPA)
UID:20260429T224014Z-iCalPlugin-Grails@philevents-web-6b96c54f56-bljdq
TZID:America/New_York
LOCATION:2400 Chew St.\, Allentown\, United States\, 18104
ORGANIZER;CN=Thaddeus Robinson:
METHOD:PUBLISH
END:VEVENT
END:VCALENDAR
