BEGIN:VCALENDAR
PRODID:-//Grails iCalendar plugin//NONSGML Grails iCalendar plugin//EN
VERSION:2.0
CALSCALE:GREGORIAN
METHOD:PUBLISH
BEGIN:VEVENT
DTSTAMP:20260425T165446Z
DTSTART;TZID=Europe/Berlin:20130719T100000
DTEND;TZID=Europe/Berlin:20130720T180000
SUMMARY:Big vs. Small - Fundamentality in Things\, Thought\, and Language
UID:20260427T144637Z-iCalPlugin-Grails@philevents-web-6b96c54f56-bljdq
TZID:Europe/Berlin
LOCATION:Hamburg\, Germany
DESCRIPTION:<p>The conference is organised by Katharina Felka\, Miguel Hoeltje and Alexander Steinberg. For more on the Big vs. Small conference\, visit:</p>
ORGANIZER:
METHOD:PUBLISH
END:VEVENT
END:VCALENDAR
