BEGIN:VCALENDAR
PRODID:-//Grails iCalendar plugin//NONSGML Grails iCalendar plugin//EN
VERSION:2.0
CALSCALE:GREGORIAN
METHOD:PUBLISH
BEGIN:VEVENT
DTSTAMP:20260425T185457Z
DTSTART;TZID=Europe/London:20130315T090000
DTEND;TZID=Europe/London:20130315T090000
SUMMARY:Big vs. Small - Fundamentality in Things\, Thought\, and Language
UID:20260427T172657Z-iCalPlugin-Grails@philevents-web-6b96c54f56-bljdq
TZID:Europe/London
LOCATION:Hamburg\, Germany
DESCRIPTION:<p>There are 6 places for short commentaries available. In addition to conference-fee waivers\, commentators will be provided with free accommodation. Should funding allow\, commentators may also receive a moderate travel grant. To apply as a commentator\, please send your CV and a brief statement of interest to:</p>\n<p>big.vs.small2013[at]gmail[dot]com&nbsp\; &nbsp\;</p>\n<p>by&nbsp\;<strong>March 15</strong>. Please state in which section (metaphysics\, epistemology\, philosophy of language) you would like to give a commentary.</p>\n<p>The conference is organised by Katharina Felka\, Miguel Hoeltje and Alexander Steinberg. &nbsp\; For more on the Big vs. Small conference\, visit:</p>
ORGANIZER:
METHOD:PUBLISH
END:VEVENT
END:VCALENDAR
