BEGIN:VCALENDAR
PRODID:-//Grails iCalendar plugin//NONSGML Grails iCalendar plugin//EN
VERSION:2.0
CALSCALE:GREGORIAN
METHOD:PUBLISH
BEGIN:VEVENT
DTSTAMP:20260423T170542Z
DTSTART;TZID=Europe/London:20120203T180000
DTEND;TZID=Europe/London:20120203T180000
SUMMARY:Spring 2012 Meeting of the Eastern Pennsylvania Philosophical Association 
UID:20260430T030617Z-iCalPlugin-Grails@philevents-web-6b96c54f56-bljdq
TZID:Europe/London
LOCATION:2400 Chew St.\, Allentown\, United States\, 18104
DESCRIPTION:<p>We invite submissions in any\narea of philosophy. Submitted papers should be (i) of a length suitable for\npresentation in 30 minutes (ii) prepared for blind review\, and (iii)\naccompanied by a separate page that includes title\, author information (name\,\naffiliation\, and contact information)\, and a brief abstract. Materials should\nbe submitted electronically (preferably in MS Word\, RTF\, or PDF form) to <a href="mailto:trobinson@muhlenberg.edu">trobinson@muhlenberg.edu</a>.&nbsp\; Suggestions for commentators (including\nself-nominations) are also welcome.</p>\n<p>Notification of Acceptance\nby: Fri. March 9th</p>\n<p>There will be a registration\nfee of $25 for attendance.&nbsp\; If you are\nplanning on attending please send a note to <a href="mailto:trobinson@muhlenberg.edu">trobinson@muhlenberg.edu</a> by Fri. April\n6th.</p>
ORGANIZER;CN=Thaddeus Robinson:
METHOD:PUBLISH
END:VEVENT
END:VCALENDAR
