BEGIN:VCALENDAR
PRODID:-//Grails iCalendar plugin//NONSGML Grails iCalendar plugin//EN
VERSION:2.0
CALSCALE:GREGORIAN
METHOD:PUBLISH
BEGIN:VEVENT
DTSTAMP:20260421T175310Z
DTSTART;TZID=America/Los_Angeles:20130623T100000
DTEND;TZID=America/Los_Angeles:20130715T180000
SUMMARY:Summer Institute in Philosophy of Cosmology
UID:20260424T010417Z-iCalPlugin-Grails@philevents-web-6b96c54f56-bljdq
TZID:America/Los_Angeles
LOCATION:Santa Cruz\, United States
DESCRIPTION:<p>Applications to the summer institute should be submitted by March 15.&nbsp\;</p>\n<p>Applications should include a short letter describing interests in philosophy of cosmology\, your current research\, and an up-to-date CV. To be considered applications should be sent by email to</p>\n<p>Professor Barry Loewer <a href="mailto:loewer@rci.rutgers.edu">loewer@rci.rutgers.edu</a></p>
ORGANIZER;CN=David Albert;CN=Barry Loewer;CN=Joel  Primack:
METHOD:PUBLISH
END:VEVENT
END:VCALENDAR
