BEGIN:VCALENDAR
PRODID:-//Grails iCalendar plugin//NONSGML Grails iCalendar plugin//EN
VERSION:2.0
CALSCALE:GREGORIAN
METHOD:PUBLISH
BEGIN:VEVENT
DTSTAMP:20260423T153726Z
DTSTART;TZID=Europe/Zurich:20130325T181500
DTEND;TZID=Europe/Zurich:20130325T194500
SUMMARY:Attending to Mindfulness
UID:20260429T223048Z-iCalPlugin-Grails@philevents-web-6b96c54f56-bljdq
TZID:Europe/Zurich
LOCATION:Gloriastrasse 29\, Zürich\, Switzerland\, 8006
DESCRIPTION:<p>For further information on the meeting\, please contact Jennifer Windt at <a target="_blank"> windt@uni-mainz.de</a></p>
ORGANIZER;CN=Thomas Metzinger:
METHOD:PUBLISH
END:VEVENT
END:VCALENDAR
