BEGIN:VCALENDAR
PRODID:-//Grails iCalendar plugin//NONSGML Grails iCalendar plugin//EN
VERSION:2.0
CALSCALE:GREGORIAN
METHOD:PUBLISH
BEGIN:VEVENT
DTSTAMP:20260421T113304Z
DTSTART;TZID=America/Los_Angeles:20220103T160000
DTEND;TZID=America/Los_Angeles:20220103T170000
SUMMARY:First Annual Boss Baby Symposium
UID:20260423T063342Z-iCalPlugin-Grails@philevents-web-6b96c54f56-bljdq
TZID:America/Los_Angeles
LOCATION:Las Vegas\, United States
DESCRIPTION:<p>This is a legitimate conference. Please direct all inquiries to thebossbaby2021@aol.com.&nbsp\;</p>\n<p>Registration is now open!:&nbsp\;<br>https://uky.zoom.us/webinar/register/WN_N5PqDVBhQVSgD-qouxmgRA</p>\n<p><br>The First Annual Boss Baby Symposium seeks to bring philosophical and interdisciplinary voices into dialogue about the enigmatic 2017 film <u>The&nbsp\;</u><u>Boss Baby</u>\,&nbsp\;starring Alec Baldwin. This conference\, the first of its kind\, represents a rigorous attempt to respond to the question: "<em>why are we so fascinated by this film?"&nbsp\;</em>We rise to the unlikely interpretive challenge posed by&nbsp\;<u>The Boss Baby</u> with the academic rigor and precision expected of a conference\, but welcome voices from all academic backgrounds.&nbsp\;</p>\n<p>Follow us on Twitter for updates concerning the conference:&nbsp\;https://twitter.com/babysymposium</p>
ORGANIZER;CN=Jaime McCaffrey;CN=Tore Levander:
METHOD:PUBLISH
END:VEVENT
END:VCALENDAR
