BEGIN:VCALENDAR
PRODID:-//Grails iCalendar plugin//NONSGML Grails iCalendar plugin//EN
VERSION:2.0
CALSCALE:GREGORIAN
METHOD:PUBLISH
BEGIN:VEVENT
DTSTAMP:20260421T094931Z
DTSTART;TZID=America/Los_Angeles:20211126T000000
DTEND;TZID=America/Los_Angeles:20211126T000000
SUMMARY:First Annual Boss Baby Symposium
UID:20260423T012805Z-iCalPlugin-Grails@philevents-web-6b96c54f56-bljdq
TZID:America/Los_Angeles
LOCATION:Las Vegas\, United States
DESCRIPTION:<p>First Annual Boss Baby Symposium</p>\n<p>Winter 2022&nbsp\;</p>\n<p>Conference: Thursday\, January 3rd 2022</p>\n<p>Abstracts Due: November 26th 2021</p>\n<p><br>CONFERENCE REGISTRATION NOW OPEN:&nbsp\;https://uky.zoom.us/webinar/register/WN_N5PqDVBhQVSgD-qouxmgRA<br><br>(Conference will also be accessible via streaming).&nbsp\;<br><br></p>\n<p>Call for Abstracts</p>\n<p>The Boss Baby Symposium welcomes virtual presentations that engage in interdisciplinary analysis\, interpretation\, and critique of the original Boss Baby movie (starring Alec Baldwin). We seek to inspire multifaceted discussion of Boss Baby from a number of viewpoints\, emphasizing the many fascinating and diverse intersections between Boss Baby and issues of personal interest.&nbsp\;</p>\n<p>Topics may include\, but are not limited to:&nbsp\;</p>\n<ul>\n<li>\n<p>Politics</p>\n</li>\n<li>\n<p>Metaanalysis&nbsp\;</p>\n</li>\n<li>\n<p>Art &amp\; affectivity&nbsp\;</p>\n</li>\n<li>\n<p>Theories and commentary&nbsp\;</p>\n</li>\n<li>\n<p>Metaphysics</p>\n</li>\n<li>\n<p>Issues of aging and child development&nbsp\;</p>\n</li>\n<li>\n<p>Culture</p>\n</li>\n<li>\n<p>Religion&nbsp\;</p>\n</li>\n</ul>\n<p>Presentations should fall between ten and fifteen minutes in length. The presenter should be prepared to engage in a panel-style discussion of the material following their presentation.&nbsp\;</p>\n<p>Please submit the following two documents for blind review:&nbsp\;</p>\n<ul>\n<li>\n<p>An abstract of no more than 250 words&nbsp\;</p>\n</li>\n<li>\n<p>A cover letter stating your name\, the title of your presentation\, institutional affiliation\, and email address.</p>\n</li>\n</ul>\n<p>Abstracts and additional inquiries should be sent to<a>thebossbaby2021@aol.com</a>. Abstracts are due by November 26th\, 2021.</p>\n<p>Follow us on Twitter for updates concerning the conference:&nbsp\;https://twitter.com/babysymposium</p>
ORGANIZER;CN=Jaime McCaffrey;CN=Tore Levander:
METHOD:PUBLISH
END:VEVENT
END:VCALENDAR
