BEGIN:VCALENDAR
PRODID:-//Grails iCalendar plugin//NONSGML Grails iCalendar plugin//EN
VERSION:2.0
CALSCALE:GREGORIAN
METHOD:PUBLISH
BEGIN:VEVENT
DTSTAMP:20260420T084832Z
DTSTART;TZID=Europe/London:20211101T180000
DTEND;TZID=Europe/London:20211101T193000
SUMMARY:Modern Conversations
UID:20260424T140626Z-iCalPlugin-Grails@philevents-web-f5d4878dd-nv7xt
TZID:Europe/London
LOCATION:London\, United Kingdom\, WC2A 2AE
DESCRIPTION:<p>.</p>\n<p><strong>MODERN CONVERSATIONS</strong></p>\n<p>Conversation plays a vital role in how we represent ourselves and come to understand our own identities. We have more ways to communicate with one another than ever before and\, from smart phones to social media\, more of those conversations are taking place online. But is there more to this than a mere increase in communication? Do these different channels of communication change the nature of communication itself? And what might all this mean for our sense of self and identity? We explore what philosophy\, linguistics\, and anthropology can tell us about our distinctly modern conversations.</p>\n<p>.</p>\n<p>Speakers</p>\n<ul>\n<li><strong>Alexandra Georgakopoulou</strong>\, Professor of Discourse Analysis and Sociolinguistics\, King&rsquo\;s College London</li>\n<li><strong>Daniel Miller</strong>\, Professor of Anthropology\, University College London</li>\n<li><strong>Rebecca Roache</strong>\, Senior Lecturer in Philosophy\, Royal Holloway\, University of London</li>\n</ul>\n<p>.</p>\n<p>Chair</p>\n<ul>\n<li><strong>Clare Moriarty</strong>\, Fellow\, Forum for Philosophy &amp\; IRC Postdoctoral Research Fellow\, Trinity College Dublin</li>\n</ul>\n<p>.</p>\n<p>More information:</p>
ORGANIZER;CN=Elizabeth Hannon:
METHOD:PUBLISH
END:VEVENT
END:VCALENDAR
