BEGIN:VCALENDAR
PRODID:-//Grails iCalendar plugin//NONSGML Grails iCalendar plugin//EN
VERSION:2.0
CALSCALE:GREGORIAN
METHOD:PUBLISH
BEGIN:VEVENT
DTSTAMP:20260424T180258Z
DTSTART;TZID=America/Chicago:20220212T090000
DTEND;TZID=America/Chicago:20220212T170000
SUMMARY:Kansas Philosophical Society Meeting--Postponed until 2023
UID:20260425T204615Z-iCalPlugin-Grails@philevents-web-6b96c54f56-bljdq
TZID:America/Chicago
LOCATION:1700 SW College Ave\, Topeka\, United States
DESCRIPTION:<p><strong>DEADLINE FOR RECEIPT OF SUBMISSIONS EXTENDED: DECEMBER 10\, 2021</strong></p>\n<p>The executive committee of the Kansas Philosophical Society invites the submission of papers for the fortieth annual meeting to be held Saturday\, February 12\, 2022\, at Washburn University\, Topeka\, KS. All friends of philosophy are invited to submit papers. Papers may be on any philosophical topic but are not to exceed 3\,000 words in length. Papers should be prepared for blind review\; please include in a separate file a cover page which includes the following information: title of the paper\, an abstract not to exceed 150 words\, author&rsquo\;s name\, institutional affiliation\, and email address. The plan is for papers to be given by presenters in person\, but the presentations will also be livestreamed.</p>\n<p>Please send your paper and cover page in attached files in .doc\, .docx\, .rtf\, or .pdf format. Other formats may prevent consideration of your submission.<br> <br> The deadline for <strong><em>receipt</em></strong> of submissions is <strong>Friday\, November 19\, 2021</strong>\, but early submissions will be greatly appreciated. Commentators will be selected for some papers. You are invited to send an indication of willingness to comment (along with your current c.v.) to the email address below. For further information for this conference and the Kansas Philosophical Society please see <a href="http://www.kansasphilosophicalsociety.org/">http://www.kansasphilosophicalsociety.org/</a>.</p>\n<p><strong>SEND SUBMISSIONS TO:&nbsp\;</strong><a href="mailto:ian.smith1@washburn.edu">ian.smith1@washburn.edu</a></p>\n<p>We will send notices of acceptance by January 14\, 2022\, at the very latest. There is no registration fee for this conference and it is open to the public.</p>\n<p>COVID-19 safety protocol TBD and will be announced closer to the date of the event.</p>
ORGANIZER;CN=Ian Smith:
METHOD:PUBLISH
END:VEVENT
END:VCALENDAR
