BEGIN:VCALENDAR
PRODID:-//Grails iCalendar plugin//NONSGML Grails iCalendar plugin//EN
VERSION:2.0
CALSCALE:GREGORIAN
METHOD:PUBLISH
BEGIN:VEVENT
DTSTAMP:20260423T152704Z
DTSTART;TZID=America/New_York:20220218T090000
DTEND;TZID=America/New_York:20220219T170000
SUMMARY:67th meeting of the Florida Philosophical Association
UID:20260429T221306Z-iCalPlugin-Grails@philevents-web-6b96c54f56-bljdq
TZID:America/New_York
LOCATION:Florida International University\, Miami\, United States
DESCRIPTION:<p>The 67th&nbsp\;annual meeting of the Florida Philosophical Association will be held&nbsp\;<strong>February 18-19\, 2022 in Miami\, FL</strong>\, hosted by the&nbsp\;Florida International University.</p>\n<p><strong>Program</strong>:</p>\n<p>http://meta.phil.ufl.edu/host/fpa/meeting/documents/2022/FPA2022-Schedule-Draft.pdf&nbsp\;</p>\n<p><strong>Details and registration</strong>:</p>\n<p>http://meta.phil.ufl.edu/host/fpa/meeting.html</p>\n<p><strong>Program Coordination</strong>: Dr. Andrew Alexander (Valencia College)\; Dr. Nicolas Delon (New College of Florida) Contact: aalexander@valenciacollege.edu&nbsp\;</p>\n<p><strong>Site coordinator</strong>: Dr. Laurie Shrage (Florida&nbsp\;International University)<br><br></p>
ORGANIZER;CN=Nicolas Delon;CN=Laurie Jeanne Shrage;CN=Andrew Alexander:
METHOD:PUBLISH
END:VEVENT
END:VCALENDAR
