BEGIN:VCALENDAR
PRODID:-//Grails iCalendar plugin//NONSGML Grails iCalendar plugin//EN
VERSION:2.0
CALSCALE:GREGORIAN
METHOD:PUBLISH
BEGIN:VEVENT
DTSTAMP:20260419T185358Z
DTSTART;TZID=Europe/Rome:20220718T070000
DTEND;TZID=Europe/Rome:20220718T070000
SUMMARY:Trends in Logic XXII
UID:20260421T221533Z-iCalPlugin-Grails@philevents-web-f5d4878dd-nv7xt
TZID:Europe/Rome
LOCATION:Cagliari\, Italy
DESCRIPTION:<p>Call for Papers: Trends in Logic XXII</p>\n\n<p>18&ndash\;20 July 2022</p>\n<p>Cagliari\, Italy</p>\n\n<p>The 22nd Trends in Logic workshop\, entitled "Strong &amp\; Weak Kleene Logics"\, will take place at the University of Cagliari (Cagliari\, Italy) from 18&ndash\;20 July 2022. It is organized by the ALOPHIS research group of the Department of Pedagogy\, Psychology and Philosophy.</p>\n\n<p>ABOUT WORKSHOP:</p>\n\n<p>While the strong three-valued logic of Kleene and the Logic of Paradox have long held a prominent place in the landscape of non-classical logics\, the last decade has seen a resurgence of interest in related logics\, including the Paraconsistent Weak Kleene logic (PWK) and Strict-Tolerant logics. These logics put their own twist on the idea of three truth values and accordingly they have varied philosophical readings and applications. Among other things\, they represent logics of partial information\, logics of nonsense\, and logics of variable inclusion. Algebraic and proof-theoretic methods have successfully been brought to bear on these logics\, but much remains to be explored. The aim of the workshop is to bring together researchers working on these various facets of logics related to the strong and weak Kleene systems\, be they algebraic\, proof-theoretic\, or philosophical.</p>\n\n<p>The workshop will be held in a hybrid format\, with in-person as well as online sessions. In case conditions do not allow for sessions to be held in person\, the workshop will move to a fully online format.</p>\n\n<p>The workshop will be followed by another event on neighbouring topics\, the second installment of Workshop on Relating Logics from July 22--23.&nbsp\;</p>\n\n\n<p>INVITED SPEAKERS:</p>\n\n<p>Eduardo Barrio (University of Buenos Aires &amp\; CONICET)</p>\n<p>Massimiliano Carrara (University of Padua)</p>\n<p>Pablo Cobreros (University of Navarra)</p>\n<p>Paul Egr&eacute\; (Institut Jean-Nicod)</p>\n<p>Peter Jipsen (Chapman University)</p>\n<p>Tommaso Moraschini (University of Barcelona)</p>\n<p>Graham Priest (University of Melbourne &amp\; CUNY)</p>\n<p>Anna Romanowska (Warsaw University of Technology)</p>\n\n<p>SCIENTIFIC COMMITTEE:</p>\n\n<p>Jacek Malinowski (Chair)</p>\n<p>Walter Carnielli</p>\n<p>Roberto Giuntini</p>\n<p>Daniele Mundici</p>\n<p>Yde Venema</p>\n<p>Heinrich Wansing</p>\n\n<p>ORGANISING COMMITTEE:</p>\n\n<p>Stefano Bonzio</p>\n<p>Davide Fazio</p>\n<p>Antonio Ledda</p>\n<p>Francesco Paoli</p>\n<p>Michele Pra Baldi</p>\n<p>Adam Prenosil</p>\n<p>Gavin St. John</p>\n<p>Gandolfo Vergottini</p>\n<p>Nicol&ograve\; Zamperlin</p>\n\n\n<p>PAPER SUBMISSION:</p>\n\n<p>The topics of the workshop include\, but are not limited to\, the following:</p>\n<p>&bull\;Proof theory and algebraic semantics for:</p>\n<p>--Strong Kleene logic</p>\n<p>--The Logic of Paradox LP</p>\n<p>--Bochvar's logic</p>\n<p>--Paraconsistent Weak Kleene logic PWK</p>\n<p>&bull\;Kleene lattices and their expansions (e.g.\, MV-algebras)</p>\n<p>&bull\;Płonka sums and regular varieties</p>\n<p>&bull\;Left &amp\; right variable inclusion logics</p>\n<p>&bull\;Non-Tarskian relatives of Kleene logics (e.g.\, Strict-Tolerant logic\, metainferential logics)</p>\n<p>&bull\;Philosophical applications (e.g.\, truth theory\, partial information\, analytic entailment\, logic of significance/nonsense\, etc.)</p>\n<p>&bull\;CS applications (e.g.\, belief revision\, paraconsistent database update\, partial information\, etc.)</p>\n\n<p>Submissions of extended abstracts (up to 2 pages\, not counting the bibliography). Abstracts should be sent via email to trendsinlogic2022cagliari@gmail.com. Please write "[Abstract]" in the email subject.&nbsp\;</p>\n\n<p>Full versions of selected papers will be published in a special issue of Studia Logica after an open call for papers.</p>\n\n\n<p>IMPORTANT DATES:</p>\n\n<p>Deadline for submission: Friday\, February 4\, 2022</p>\n<p>Notification of acceptance: Friday\, April 15\, 2022</p>\n\n\n<p>CONTACT AND FURTHER DETAILS:</p>\n\n<p>Website: https://sites.google.com/view/trendsinlogic2022cagliari</p>\n\n<p>Please direct all inquiries by email to: trendsinlogic2022cagliari@gmail.com</p>
ORGANIZER:
METHOD:PUBLISH
END:VEVENT
END:VCALENDAR
