BEGIN:VCALENDAR
PRODID:-//Grails iCalendar plugin//NONSGML Grails iCalendar plugin//EN
VERSION:2.0
CALSCALE:GREGORIAN
METHOD:PUBLISH
BEGIN:VEVENT
DTSTAMP:20260421T215027Z
DTSTART;TZID=Europe/Belgrade:20220421T090000
DTEND;TZID=Europe/Belgrade:20220423T170000
SUMMARY:Formal Methods and Science in Philosophy IV
UID:20260424T143330Z-iCalPlugin-Grails@philevents-web-6b96c54f56-bljdq
TZID:Europe/Belgrade
LOCATION:Ul. don Frana Bulića 4\, Dubrovnik\, Croatia\, 20000
DESCRIPTION:<p>https://iuc.hr/programme/1344</p>\n<p>The&nbsp\;<strong>general subject&nbsp\;</strong>of the conference are problems of philosophical ontology\, epistemology\, philosophy of science\, and philosophy of mind that are formulated or solved using formal methods (as defined in logic\, mathematics\, formal linguistics\, theoretical computer science\, information science\, AI) and/or with references to the results of natural and social sciences. The following special topics will be addressed: use of formal methods in philosophy\; philosophical analysis of scientific notions (natural law\, matter\, change\, cause\, chance\, time\, space\, uncertainty\, quantum phenomena\, probability\, social interaction)\; philosophical analysis of scientific methods (formalisms\, rationality\, values and norms\, etc.)\; the role and use of scientific notions and methods in philosophy (formal systems in philosophy\, critical analysis\, systematic philosophy\, etc.).</p>\n<p>A&nbsp\;<strong>special session</strong>&nbsp\;will be dedicated to Berislav Žarnić (1959-2017) and to any topic of his interest in philosophical logic and formal philosophy\,&nbsp\;http://marul.ffst.hr/~berislav/doku.php. &nbsp\;</p>\n<p>The lectures and talks will be given in person or online\, mostly depending on epidemic circumstances. &nbsp\;</p>\n<p>There will be a&nbsp\;<em><strong>PhD</strong>&nbsp\;student session</em>&nbsp\;with 20 minutes talks followed by 10 minutes discussion. The call for this session is not extended (<strong>closed</strong> on January 15).</p>\n<p><strong>Language</strong>: English.&nbsp\;</p>\n<p><strong>Conference fee</strong>. In-person presence: 90 EUR / 70 EUR (retired participants\, students)\, online presence: 25 EUR.</p>\n<p><strong>Abstracts</strong>&nbsp\; Please\, submit a 1200 characters abstract by February 4\, 2022 to&nbsp\;abrozek@uw.edu.pl\,&nbsp\;k.swietorzecka@uksw.edu.pl&nbsp\;or&nbsp\;skovac@ifzg.hr. Indicate if the abstract is meant for the special session dedicated to Berislav Žarnić.&nbsp\;Please\, note that the deadline is&nbsp\;not&nbsp\;extended for the PhD student session.&nbsp\;Notification of acceptance by February 15\, 2022.</p>\n<p><strong>Patronage&nbsp\;</strong>&nbsp\; Dr. sc. Luka Bor&scaron\;ić\, Director of the Institute of Philosophy\, Zagreb\; Prof. dr. hab. Pawel Łuk&oacute\;w\, Dean of the Faculty of Philosophy of the University of Warsaw\; Prof. dr. hab. Ryszard F. Sadowski\, Director of the Institute of Philosophy of the Cardinal Stefan Wyszyńsky University\, Warsaw.</p>
ORGANIZER;CN=Gianfranco Basti;CN="Anna Magdalena Brożek";CN=Filip Grgic;CN="Srećko Kovač";CN="Kordula Świętorzecka":
METHOD:PUBLISH
END:VEVENT
END:VCALENDAR
