BEGIN:VCALENDAR
PRODID:-//Grails iCalendar plugin//NONSGML Grails iCalendar plugin//EN
VERSION:2.0
CALSCALE:GREGORIAN
METHOD:PUBLISH
BEGIN:VEVENT
DTSTAMP:20260420T023102Z
DTSTART;TZID=Europe/Amsterdam:20220614T090000
DTEND;TZID=Europe/Amsterdam:20220615T170000
SUMMARY:Injustice\, Resistance and Complicity
UID:20260423T102602Z-iCalPlugin-Grails@philevents-web-f5d4878dd-nv7xt
TZID:Europe/Amsterdam
LOCATION:Faculty of Philosophy\, University of Groningen\, Groningen\, Netherlands\, 9712 GL
DESCRIPTION:<p>Injustice is often difficult to pin down. It manifests not only in one group using their power to inflict physical or psychological harm on another\, or to limit another group&rsquo\;s options\, choices or possibilities through overt policies or political means. Recent developments in philosophy have highlighted that injustice can take more insidious forms. It can manifest at an epistemic level: depriving agents of the ability to conceptualise the harms done to them\, or blocking their ability to articulate the ways in which they have been wronged. Injustice often functions structurally\, in the absence of any identifiable oppressing agent. Frequently\, unjust social structures have a deceptive nature\, making systemic issues appear to be individual failings\; thus\, effectively identifying and resisting these diverse sites of injustice requires careful attention to the interplay between structural and interpersonal forces\, and questions of individual\, collective and vicarious responsibility and agency. These matters are further complicated by issues of complicity: the way in which agents can play a role in upholding or reinforcing their own subordination and the subordination of others. Complicity manifests itself in the &lsquo\;grey zone&rsquo\; of agency\, responsibility and choice in situations of injustice\, where strategic negotiations with oppressive social structures need to be disentangled from adaptive preferences and internalised oppression\, or affective mechanisms that inure agents against acknowledging\, resisting and combatting injustice. Epistemic and structural injustice\, and our complicity in both\, raise difficult questions for the possibility of resistance.</p>\n<p>This two-day international workshop brings together speakers from a range of philosophical perspectives in order to explore issues of injustice\, resistance and complicity in relation to questions of responsibility\, gender\, the role of emotion\, as well as from applied and legal perspectives. The keynote lecture\, &lsquo\;Moral justification and structural epistemic injustice&rsquo\;\, will be given by Professor Alison Jaggar.</p>\n<p>This workshop is organised by the department of Ethics Social and Political Philosophy and co-sponsored by the centre for Philosophy Politics and Economics at the University of Groningen.</p>\n<p>Registration is free\, but essential as places are strictly limited</p>\n<p>To register go to:&nbsp\;&nbsp\;https://forms.gle/kwRGBvqb4JbRmPjy9&nbsp\;</p>\n<p>This is planned as an in-person event\, there is not currently the possibility to join remotely. Please only register if you are able to attend in person.&nbsp\;</p>\n\n<p>Deadline for registration: Thursday 12th&nbsp\;May</p>\n<p><strong><u><br></u></strong></p>\n<p><strong><u>Programme</u></strong></p>\n<p><strong>Day 1\, Tuesday 14th&nbsp\;June 10am &ndash\; 5.30pm</strong></p>\n<p>What Does That Have to do With Me? Exploring Conditions of Responsibility for Persons and Collectives</p>\n<p>Nicole Ramsoomair (Dalhousie University)</p>\n<p>How to Dress Like a Feminist</p>\n<p>Charlotte Knowles (University of Groningen) Filipa Melo Lopes (University of Edinburgh)</p>\n<p>Blurred Lines: Complicity and Injustice in Cases of Rape</p>\n<p>Katrina L. Sifferd (Elmhurst University)</p>\n<p>Legal Proof and Structural Injustice</p>\n<p>Lily Moore-Eissenberg (University of Oxford)</p>\n<p>Repairing Moral Damage Through Self-regarding Resistance</p>\n<p>Alycia LaGuardia-LoBianco (Grand Valley State University)</p>\n<p><strong><br></strong></p>\n<p><strong>Day 2\, Wednesday 15th&nbsp\;June 10am &ndash\; 5.30pm</strong></p>\n<p>Narrative Resistance and Emotional Transformations</p>\n<p>Laurencia S&aacute\;enz Benavides (Universidad de Costa Rica)</p>\n<p>Precluded Anger\, Occluding Emotions: The Loss of Emancipatory Possibility</p>\n<p>Denish Jaswal (Harvard University)</p>\n<p>Shared and Partial Connections: Using Imagination to Train Response-Abilities</p>\n<p>Lydia Baan Hofman (Erasmus University)</p>\n<p>Keynote lecture:&nbsp\;Moral justification and structural epistemic injustice</p>\n<p>Alison Jaggar (Professor Emerita\, University of Colorado Boulder)</p>
ORGANIZER;CN=Charlotte Knowles:
METHOD:PUBLISH
END:VEVENT
END:VCALENDAR
