BEGIN:VCALENDAR
PRODID:-//Grails iCalendar plugin//NONSGML Grails iCalendar plugin//EN
VERSION:2.0
CALSCALE:GREGORIAN
METHOD:PUBLISH
BEGIN:VEVENT
DTSTAMP:20260420T012010Z
DTSTART;TZID=Europe/Berlin:20220912T130000
DTEND;TZID=Europe/Berlin:20220915T170000
SUMMARY:GAP.11: Philosophy and the Public
UID:20260423T054401Z-iCalPlugin-Grails@philevents-web-f5d4878dd-nv7xt
TZID:Europe/Berlin
LOCATION:Unter den Linden 6\, Berlin\, Germany\, 10099
ORGANIZER;CN=Geert Keil;CN=Romy Jaster:
METHOD:PUBLISH
END:VEVENT
END:VCALENDAR
