BEGIN:VCALENDAR
PRODID:-//Grails iCalendar plugin//NONSGML Grails iCalendar plugin//EN
VERSION:2.0
CALSCALE:GREGORIAN
METHOD:PUBLISH
BEGIN:VEVENT
DTSTAMP:20260419T233339Z
DTSTART;TZID=Europe/Berlin:20220131T234500
DTEND;TZID=Europe/Berlin:20220131T234500
SUMMARY:GAP.11: Philosophy and the Public
UID:20260422T214516Z-iCalPlugin-Grails@philevents-web-f5d4878dd-nv7xt
TZID:Europe/Berlin
LOCATION:Unter den Linden 6\, Berlin\, Germany\, 10099
DESCRIPTION:<p>Call for Papers:</p>\n<p>https://gap11.de/en/call-for-papers.html</p>\n<p>Submission deadline: Jan. 31\, 2022</p>
ORGANIZER;CN=Geert Keil;CN=Romy Jaster:
METHOD:PUBLISH
END:VEVENT
END:VCALENDAR
