BEGIN:VCALENDAR
PRODID:-//Grails iCalendar plugin//NONSGML Grails iCalendar plugin//EN
VERSION:2.0
CALSCALE:GREGORIAN
METHOD:PUBLISH
BEGIN:VEVENT
DTSTAMP:20260425T181030Z
DTSTART;TZID=America/Chicago:20220415T101500
DTEND;TZID=America/Chicago:20220416T170000
SUMMARY:2022 Graduate Conference in Political Theory
UID:20260427T162523Z-iCalPlugin-Grails@philevents-web-6b96c54f56-bljdq
TZID:America/Chicago
LOCATION:Chicago\, United States\, 60660
DESCRIPTION:<p>Hosted by Loyola University Chicago\, Department of Philosophy\, and the New School for Social Research\, Departments of Philosophy and Politics</p>\n<p><u>Organizing Committee<br></u>Alec Stubbs (Loyola)\, Daphne Pons (Loyola)\, Italo Alves (Loyola)\, Allan Hillani (NSSR)\, Helia Faezipour (NSSR)\, and Susana Garibay (NSSR)</p>\n<p>The conference will take place on Friday\, April 15\, and Saturday\, April 16\, over Zoom. Registration for the two days of the conference can be made at https://luc.zoom.us/meeting/register/tZYlf-mvpjspHNbwnXLfFB0yhzweX748wG6G.</p>\n<p>Speakers will have 20&ndash\;25 minutes to give their talks. After that\, a discussant will present their comments and questions and open the floor for a general discussion. On Friday\, April 15 at 4:15PM (CDT)/ 5:15PM (EDT)\, Dr. Johanna Oksala will present a keynote lecture.</p>\n<p><strong>Friday\, April 15</strong></p>\n<p>10:15&ndash\;10:30am CDT / 11:15&ndash\;11:30am EDT: Opening remarks</p>\n<p>Panel 1 (10:30&ndash\;11:30am CDT / 11:30am&ndash\;12:30pm EDT)<br>Cansu Hepcaglayan (Boston University): <strong>Reasons for Political Friendship</strong><br>Discussant: Andrew Krema (Loyola University Chicago)</p>\n<p>Panel 2 (11:30am&ndash\;12:30pm CDT / 12:30&ndash\;1:30pm EDT)<br>Carlos Augusto de Oliveira Carvalhar (Federal University of Bahia): <strong>Plato&rsquo\;s political philosophy and his conception of power</strong><br>Discussant: Clover Reshad (NSSR Politics)</p>\n<p>12:30&ndash\;2:00pm CDT / 1:30&ndash\;3:00pm EDT: Lunch break</p>\n<p>Panel 3 (2:00&ndash\;3:00pm CDT / 3:00&ndash\;4:00pm EDT)<br>Sterling Hall (Villanova University): <strong>Reluctantly Dependent on Social Reproduction: SRT\, the State\, and Welfare</strong><br>Discussant: Anastasiia Kalk (New School for Social Research)</p>\n<p>Panel 4 (3:00&ndash\;4:00pm CDT / 4:00&ndash\;5:00pm EDT)<br>Jonathan Hollingsworth (Michigan State University): <strong>Critical Theory\, Automation\, and the Crisis of Value: Marx&rsquo\;s &ldquo\;Fragment on Machines&rdquo\; Reconsidered</strong><br>Discussant: Aaron Berman (New School for Social Research)</p>\n<p>Keynote Address (4:15&ndash\;5:40pm CDT / 5:15&ndash\;6:40pm EDT)<br>Dr. Johanna Oksala (Arthur J. Schmitt Professor of Philosophy\, Loyola University Chicago): <strong>Beyond Neoliberal Realism: Foucault&rsquo\;s Late Politics</strong></p>\n<p><strong>Saturday\, April 16</strong></p>\n<p>Panel 5 (10:30&ndash\;11:30am CDT / 11:30am&ndash\;12:30pm EDT)<br>Marie Loslier-Simon (New School for Social Research): <strong>Subjects\, bodies\, domination: towards a theory of exhaustion</strong><br>Discussant: Italo Alves (Loyola University Chicago)</p>\n<p>Panel 6 (11:30am&ndash\;12:30pm CDT / 12:30&ndash\;1:30pm EDT)<br>Thor Jo&atilde\;o de Sousa Veras (Federal University of Santa Catarina/Goethe-Universit&auml\;t Frankfurt): <strong>Quilombism as political progress: contributions from Brazilian critical race theory</strong><br>Discussant: Susana Garibay (New School for Social Research)</p>\n<p>12:30&ndash\;2:00pm CDT / 1:30&ndash\;3:00pm EDT: Lunch break</p>\n<p>Panel 7 (2:00&ndash\;3:00pm CDT / 3:00&ndash\;4:00pm EDT)<br>Sarah Rachel Moncada-Oseguera (Universit&eacute\; de Montr&eacute\;al): <strong>Walter Benjamin's Theory of Fascism: The Political Contribution of Aesthetic Theses</strong><br>Discussant: Duncan Stuart (NSSR Philosophy)</p>\n<p>Panel 8 (3:00&ndash\;4:00pm CDT / 4:00&ndash\;5:00pm EDT)<br>Riad Alarian (The University of Toledo): <strong>Nostalgia as Political Critique\, Nostalgia as Worldbuilding</strong><br>Discussant: Bego&ntilde\;a Gerling (New School for Social Research)</p>\n<p>Panel 9 (4:00&ndash\;5:00pm CDT / 5:00&ndash\;6:00pm EDT)<br>Emerson Bodde (Vanderbilt University): <strong>Disputing the Collapse: Apocalypse Philosophy\, Theoretical Journalism\, and Tosaka Jun</strong><br>Discussant: Rene Ramirez (Loyola University Chicago)</p>
ORGANIZER;CN=Alec Stubbs;CN=Daphne Pons;CN="Ítalo da Silva Alves";CN=Allan M. Hillani;CN=Helia Faezipour;CN=Susana Garibay Salomon:
METHOD:PUBLISH
END:VEVENT
END:VCALENDAR
