BEGIN:VCALENDAR
PRODID:-//Grails iCalendar plugin//NONSGML Grails iCalendar plugin//EN
VERSION:2.0
CALSCALE:GREGORIAN
METHOD:PUBLISH
BEGIN:VEVENT
DTSTAMP:20260425T195744Z
DTSTART;TZID=America/Chicago:20220220T234500
DTEND;TZID=America/Chicago:20220220T234500
SUMMARY:2022 Graduate Conference in Political Theory
UID:20260427T190030Z-iCalPlugin-Grails@philevents-web-6b96c54f56-bljdq
TZID:America/Chicago
LOCATION:Chicago\, United States
DESCRIPTION:<p>The Department of Philosophy at Loyola University Chicago\, in partnership with the Department of Philosophy at The New School for Social Research\, will host the 2022 Graduate Conference&nbsp\;in Political Theory on <strong>April 15&ndash\;16\, 2022</strong>. The conference will be held virtually over Zoom.</p>\n<p>We are launching this event to provide graduate students in <strong>political philosophy\, political theory\, and the history of political thought</strong> an opportunity to present and receive feedback on their work. We welcome submissions from all traditions\, but we are particularly interested in providing a venue for graduate students working on <strong>critical approaches</strong>. We would also like to encourage applications from under-represented groups in the field.</p>\n<p>Professor <strong>Johanna Oksala</strong> (Arthur J. Schmitt Professor of Philosophy\, Loyola University Chicago) will deliver the inaugural keynote address.</p>\n<p>Abstracts of <strong>500 to 800 words</strong> can be submitted via the conference&rsquo\;s Google Form\, and must include <em>five keywords</em>\, <em>full name of author</em>\, and respective <em>institutional affiliation</em>: <strong>https://tinyurl.com/2022politicaltheory</strong></p>\n<p>The submission <strong>deadline</strong> is <strong>February 20\, 2022</strong>.</p>\n<p>This event is sponsored by the Associations of Graduate Students in Philosophy from Loyola University Chicago and The New School for Social Research. For any questions\, please contact Italo Alves at <strong>ialves@luc.edu</strong>.</p>
ORGANIZER;CN=Alec Stubbs;CN=Daphne Pons;CN="Ítalo da Silva Alves";CN=Allan M. Hillani:
METHOD:PUBLISH
END:VEVENT
END:VCALENDAR
