BEGIN:VCALENDAR
PRODID:-//Grails iCalendar plugin//NONSGML Grails iCalendar plugin//EN
VERSION:2.0
CALSCALE:GREGORIAN
METHOD:PUBLISH
BEGIN:VEVENT
DTSTAMP:20260424T171211Z
DTSTART;TZID=America/Chicago:20220223T090000
DTEND;TZID=America/Chicago:20220226T170000
SUMMARY:APA Central 2022 - Chicago
UID:20260425T185047Z-iCalPlugin-Grails@philevents-web-6b96c54f56-bljdq
TZID:America/Chicago
LOCATION:17 East Monroe Street\, Chicago\, United States\, 60603
DESCRIPTION:<p>The 119th meeting of the APA Central Division will take place in Chicago\, Illinois at the Palmer House Hilton. The Palmer House has been an icon of downtown Chicago for over 150 years and sits at the heart of the theater and financial district. Visit the famed lobby bar for a drink or dine at Lockwood. The rooms and suites feature just the right touches to make you feel at home so you can rest easy with added assurance of Hilton Clean Stay. While staying at the hotel\, you are blocks from State Street Shopping\, the Art Institute of Chicago and Millennium Park. The hotel also has a fitness center\, spa\, and renovated pool.</p>
ORGANIZER:
METHOD:PUBLISH
END:VEVENT
END:VCALENDAR
