BEGIN:VCALENDAR
PRODID:-//Grails iCalendar plugin//NONSGML Grails iCalendar plugin//EN
VERSION:2.0
CALSCALE:GREGORIAN
METHOD:PUBLISH
BEGIN:VEVENT
DTSTAMP:20260420T233048Z
DTSTART;TZID=Europe/Warsaw:20220905T000000
DTEND;TZID=Europe/Warsaw:20220908T170000
SUMMARY:The Sixth World Congress of Paraconsistency in Toruń (WCP6). The Second Stanisław Jaśkowski Memorial Symposium
UID:20260421T174654Z-iCalPlugin-Grails@philevents-web-6b96c54f56-bljdq
TZID:Europe/Warsaw
LOCATION:Toruń\, Poland\, 87-100
DESCRIPTION:<p>Continuing the tradition of the congresses of the paraconsistency and referring to the role of Stanisław Jaśkowski for the creation and development of the paraconsistent logic\, we hereby invite you to the Congress-Symposium in Toruń.</p>
ORGANIZER:
METHOD:PUBLISH
END:VEVENT
END:VCALENDAR
