BEGIN:VCALENDAR
PRODID:-//Grails iCalendar plugin//NONSGML Grails iCalendar plugin//EN
VERSION:2.0
CALSCALE:GREGORIAN
METHOD:PUBLISH
BEGIN:VEVENT
DTSTAMP:20260420T214422Z
DTSTART;TZID=Europe/Warsaw:20220531T230000
DTEND;TZID=Europe/Warsaw:20220531T230000
SUMMARY:The Sixth World Congress of Paraconsistency in Toruń (WCP6). The Second Stanisław Jaśkowski Memorial Symposium
UID:20260421T080206Z-iCalPlugin-Grails@philevents-web-6b96c54f56-bljdq
TZID:Europe/Warsaw
LOCATION:Toruń\, Poland\, 87-100
DESCRIPTION:<p>The Sixth World Congress of Paraconsistency (WCP6) -</p>\n<p>the Second Stanisław Jaśkowski Memorial Symposium\,</p>\n<p>5-8 September 2022\, Toruń\, Poland</p>\n<p>https://wcp6.umk.pl</p>\n\n<p>***</p>\n\n<p>Deadline extension: May 31\, 2022</p>\n<p>For details see below.</p>\n\n<p>***</p>\n\n<p>Continuing the tradition of the congresses of the paraconsistency</p>\n<p>and referring to the role of Stanisław Jaśkowski for the creation</p>\n<p>and development of the paraconsistent logic\, we hereby invite you to the Congress-Symposium in Toruń.</p>\n\n<p>***</p>\n\n<p>Invited Lecturers/Keynote Speakers:</p>\n<p>Arnon Avron</p>\n<p>Diderik Batens</p>\n<p>Jean-Yves Beziau</p>\n<p>Bryson Brown</p>\n<p>Walter Carnielli</p>\n<p>Janusz Ciuciura</p>\n<p>Jacek Malinowski</p>\n<p>Krystyna Mruczek-Nasieniewska</p>\n<p>Daniele Mundici</p>\n<p>Hitoshi Omori</p>\n<p>Graham Priest</p>\n<p>Yaroslav Shramko</p>\n<p>Max Urchs</p>\n<p>Zach Weber</p>\n\n<p>***</p>\n\n<p>Tutorials:</p>\n<p>Kherian Gracher - What is a paraconsistent negation?</p>\n<p>Andrzej Indrzejczak and Marek Nasieniewski - On Jaśkowski heritage</p>\n<p>Itala M. Loffredo D'Ottaviano - History of paraconsistency in Western thought</p>\n\n<p>***</p>\n\n<p>The Scientific Committee:</p>\n<p>Jean-Yves Beziau</p>\n<p>Marek Nasieniewski</p>\n<p>Arnon Avron</p>\n<p>Jc Beall</p>\n<p>Juliana Bueno-Soler</p>\n<p>Walter Carnielli</p>\n<p>Newton da Costa</p>\n<p>Marcelo Esteban Coniglio</p>\n<p>Luis Estrada-Gonz&aacute\;lez</p>\n<p>Luis Farinas del Cerro</p>\n<p>Tomasz Jarmużek</p>\n<p>Itala M. Loffredo D'Ottaviano</p>\n<p>Joao Marcos</p>\n<p>Edwin Mares</p>\n<p>Joke Meheus</p>\n<p>Daniele Mundici</p>\n<p>Andrzej Pietruszczak</p>\n<p>Peter Schroeder-Heister</p>\n<p>John Slaney</p>\n<p>Max Urchs</p>\n<p>Jean Paul Van Bendegem</p>\n<p>Vladimir L. Vasyukov</p>\n<p>Peter Verd&eacute\;e</p>\n<p>Heinrich Wansing</p>\n<p>Erik Weber</p>\n\n<p>***</p>\n<p>The Organising Committee:</p>\n<p>Mateusz Klonowski</p>\n<p>Mar&iacute\;a del Rosario Mart&iacute\;nez-Ordaz</p>\n<p>Michał Oleksowicz</p>\n<p>Rafał Palczewski</p>\n<p>Sylwia Nurkiewicz</p>\n\n<p>***</p>\n\n<p>Papers on any aspects of paraconsistency might be submitted for</p>\n<p>consideration.</p>\n<p>They may cover topics from the following (not exclusive) list:</p>\n<p>***</p>\n\n<p>&nbsp\; &nbsp\; Systems of Paraconsistent Logic\,</p>\n<p>&nbsp\; &nbsp\; Philosophical Issues in Paraconsistency\,</p>\n<p>&nbsp\; &nbsp\; Applications of Paraconsistent Logic\,</p>\n<p>&nbsp\; &nbsp\; Paraconsistency and Computation\,</p>\n<p>&nbsp\; &nbsp\; History of Paraconsistent Logic.</p>\n\n<p>***</p>\n\n<p>Send your abstract via the registration page:</p>\n<p>&nbsp\; &nbsp\; https://wcp6.umk.pl/?task=participant&amp\;action=register</p>\n\n<p>or send by e-mail:</p>\n<p>&nbsp\; &nbsp\; wcp6@umk.pl</p>\n<p>Authors should submit electronic versions of their abstracts\,</p>\n<p>(recommended pdf format\, ca. 1000 words) by May 31\, 2022.</p>\n<p>Authors will be informed about the acceptance of their contributions</p>\n<p>before June 12\, 2022.</p>\n\n<p>***</p>\n\n<p>Organizers</p>\n<p>&nbsp\; - Department of Logic\, Institute of Philosophy\,</p>\n<p>&nbsp\; &nbsp\; Faculty of Philosophy and Social Sciences\,</p>\n<p>&nbsp\; &nbsp\; Nicolaus Copernicus University in Toruń</p>\n<p>&nbsp\; - Emerging Field Logic and Philosophy of Science</p>\n<p>&nbsp\; - Center for Logic\, Epistemology and History of Science\,</p>\n<p>&nbsp\; &nbsp\; Universidade Estadual de Campinas (UNICAMP)\,</p>\n<p>&nbsp\; - Departamento de Filosofia\,</p>\n<p>&nbsp\; &nbsp\; Universidade Federal do Rio de Janeiro\,</p>\n<p>&nbsp\; - Institute for Philosophical Research\,</p>\n<p>&nbsp\; &nbsp\; National Autonomous University of Mexico\,</p>\n<p>&nbsp\; - Logica Universalis Association</p>\n\n<p>***</p>\n\n<p>Contact: wcp6@umk.pl</p>
ORGANIZER:
METHOD:PUBLISH
END:VEVENT
END:VCALENDAR
