BEGIN:VCALENDAR
PRODID:-//Grails iCalendar plugin//NONSGML Grails iCalendar plugin//EN
VERSION:2.0
CALSCALE:GREGORIAN
METHOD:PUBLISH
BEGIN:VEVENT
DTSTAMP:20260419T171108Z
DTSTART;TZID=Europe/London:20230228T234500
DTEND;TZID=Europe/London:20230228T234500
SUMMARY:Synthese Topical Collection: Temporal Reasoning and Tensed Truths
UID:20260421T111248Z-iCalPlugin-Grails@philevents-web-f5d4878dd-nv7xt
TZID:Europe/London
DESCRIPTION:<p><strong>Call for Papers:</strong></p>\n<p>Synthese Topical Collection: Temporal Reasoning and Tensed Truths</p>\n<p><strong>Guest Editors:</strong></p>\n<p>Vincent Grandjean\, Faculty of Philosophy\, University of Oxford\, Oxford\, United Kingdom</p>\n<p>Matteo Pascucci\, Institute of Philosophy\, Slovak Academy of Sciences\, Bratislava\, Slovak Republic</p>\n<p><strong>Topical Collection Description:</strong></p>\n<p>This topical collection is dedicated to the formal representation of arguments involving&nbsp\;<em>temporal</em>&nbsp\;<em>reasoning&nbsp\;</em>and<em>&nbsp\;tensed truths</em>\; in particular\, arguments with a clear significance to everyday life. In a broad perspective\, temporal reasoning can be rigorously encoded via&nbsp\;<em>intensional logic</em>\, treating tenses as modalities\, or via&nbsp\;<em>extensional logic</em>\, quantifying over domains of temporal objects (e.g.\, instants\, intervals\, etc.). Nowadays there are several formal devices (languages\, systems\, semantics\, etc.) able to deal with time in many regards. Each of these devices is characterized by peculiar features\, such as a certain choice of primitive notions and\, arguably\, a certain kind of ontological commitment (see\, e.g.\, the surveys of approaches offered by Prior 1967\, van Benthem 1983\, Gabbay\, Hodkinson &amp\; Reynolds 1994 and &Oslash\;hrstr&oslash\;m &amp\; Hasle 1995). The truth-conditions of (the propositions expressed by) statements involving tenses can be explained either in terms of the &ldquo\;past-present-future&rdquo\; opposition (McTaggart&rsquo\;s A-theory) or in terms of the &ldquo\;earlier-later&rdquo\; opposition (McTaggart&rsquo\;s B-theory). Moreover\, taking into account the difference between chronologically definite propositions and chronologically indefinite propositions (Rescher 1966)\, it is possible to distinguish between atemporal and temporal (or&nbsp\;<em>tensed</em>) notions of truth. This topical collection will primarily focus on the latter.</p>\n<p>It is often argued that tensed truths do not float free\, but are grounded in reality. Accordingly\, the present truth of (the proposition expressed by) a statement such as &lsquo\;Napoleon lost at Waterloo&rsquo\;\, requires it to be grounded in&nbsp\;<em>what there is and how it is</em>. However\, this view has undesirable consequences. First\, it seems to force one to adopt an eternalist ontology: assuming that past- and future-tensed statements are not exceptions to the&nbsp\;<em>principle of bivalence</em>&nbsp\;(which states that all declarative sentences express propositions that are either true or false)\, there must be things located in the past and the future of the moment of evaluation that provide grounds for their classical truth-values. Secondly\, it seems to threaten the openness of the future: assuming that the truth-value of a future-tensed statement\, such as &lsquo\;The first human on Mars will be a woman&rsquo\;\, is grounded in&nbsp\;<em>what there is and how it is</em>\, it seems that everything regarding the exploration of Mars is already settled.</p>\n<p>Many options have been envisaged to avoid these undesirable consequences. One option is denying that future-tensed statements are bivalent (Broad 1923\, Markosian 1995). However\, this view is subject to criticism too since (i) it conflicts with retrospective evaluations of future-tensed statements (Besson &amp\; Hattiangadi 2013\, MacFarlane 2003\, 2008)\, and (ii) it is not clear what semantics one ought to assume when modeling truth-value gaps. A second option is to argue that the bivalence of past- and future-tensed statements is compatible with non-eternalist ontologies and/or with an open future. This option comes in various flavors: Todd (2016) argues that future-tensed statements are all false\; Barnes &amp\; Cameron (2009\, 2011) say that although future-tensed statements are bivalent\, the truth-value of some of these is unsettled\; Correia &amp\; Rosenkranz (2018) assert that the grounding requirement on tensed truths must be weakened\, so that it allows the present truth-values of some future-tensed statements to be grounded in how\,&nbsp\;<em>at some future time</em>\, things will be\; etc. Thus\, the problem of finding an appropriate way of formally representing arguments involving tensed truths is still a source of intense debate.</p>\n<p>E. Barnes and R. Cameron\, 2009. &lsquo\;The Open Future: Bivalence\, Determinism and Ontology&rsquo\;\, in&nbsp\;<em>Philosophical Studies</em>. Vol. 146\, pp. 291-309.<br>E. Barnes and R. Cameron\, 2011. &lsquo\;Back to the Open Future&rsquo\;\, in&nbsp\;<em>Philosophical Perspectives</em>. Vol. 25\, pp.&nbsp\;1-26.<br>C. Besson and A. Hattiangadi\, 2013. &lsquo\;The Open Future\, Bivalence and Assertion&rsquo\;\, in&nbsp\;<em>Philosophical Studies</em>. Vol. 167\, pp. 251-271.<br>R. Cameron\, 2015.&nbsp\;<em>The Moving Spotlight</em>. Oxford: Oxford University Press.<br>F. Correia and A. Iacona (eds.)\, 2013.&nbsp\;<em>Around the Tree: Semantic and Metaphysical Issues Concerning Branching and the Open Future</em>. Dordrecht: Springer.<br>F. Correia and S. Rosenkranz\, 2018.&nbsp\;<em>Nothing to Come: A Defense of the Growing Block Theory of Time</em>. Berlin: Springer.<br>D.M. Gabbay\, I. Hodkinson and M. Reynolds\, 1994.&nbsp\;<em>Temporal Logic: Mathematical Foundations and Computational Aspects</em>&nbsp\;(Volume 1)\, Oxford: Clarendon Press.<br>J. MacFarlane\, 2003. &lsquo\;Future Contingents and Relative Truth&rsquo\;\, in&nbsp\;<em>The Philosophical Quarterly</em>. Vol. 53\, pp.&nbsp\;322-336.<br>J. MacFarlane\, 2008. &lsquo\;Truth in the Garden of Forking Paths&rsquo\;\, in&nbsp\;<em>Relative Truth</em>. M. Garcia-Carpintero and M. Kölbel (eds.)\, Oxford: Oxford University Press\, pp. 81-102.<br>P. &Oslash\;hrstr&oslash\;m\, 2019\, &lsquo\;A critical discussion of Prior&rsquo\;s philosophical and tense-logical analysis of the ideas of indeterminism and human freedom&rsquo\;\, in&nbsp\;<em>Synthese</em>. Vol. 196\, pp. 69-85.<br>P. &Oslash\;hrstr&oslash\;m and P. Hasle\, 1995\,&nbsp\;<em>Temporal Logic: From Ancient Ideas to Artificial Intelligence</em>\, Dordrecht: Kluwer Academic Publishers.<br>P. &Oslash\;hrstr&oslash\;m and P. Hasle\, 2020\, &lsquo\;Future Contingents&rsquo\;\, in&nbsp\;<em>Stanford Encyclopedia of Philosophy</em>. E. Zalta (ed.)\, URL:&nbsp\;<a href="https://plato.stanford.edu/entries/future-contingents/">https://plato.stanford.edu/entries/future-contingents/</a>.<br>A.N. Prior\, 1967.&nbsp\;<em>Past\, Present and Future</em>. Oxford: Clarendon Press.<br>N. Rescher\, 1966. &lsquo\;On the Logic of Chronological Propositions&rsquo\;\, in&nbsp\;<em>Mind</em>&nbsp\;Vol. 75\, pp. 75&ndash\;96.<br>P. Todd\, 2016. &lsquo\;Future Contingents are all False! On Behalf of a Russellian Open Future&rsquo\;\, in&nbsp\;<em>Mind</em>. Vol. 125\, pp. 775-798.<br>J. van Benthem\, 1983.&nbsp\;<em>The Logic of Time</em>\, Dordrecht\, Boston\, and London: Kluwer Academic Publishers. [Second edition: 1991.]</p>\n<p><strong>Appropriate Topics for Submission include\, among others:</strong></p>\n<p>Formal accounts of tensed truths</p>\n<p>Grounds for tensed truths</p>\n<p>Logics for chronologically definite and indefinite propositions</p>\n<p>Reasoning problems involving time</p>\n<p>Temporal vs atemporal notions of truth</p>\n<p>Truth-value of tensed statements</p>\n<p>The unrestricted application of bivalence</p>\n<p>The absoluteness of utterance-truth</p>\n<p>The problem of future contingents</p>\n<p>Truthmakers for tensed truths</p>\n<p><strong>For further information\, please contact the guest editors:&nbsp\;</strong></p>\n<p>vincent.grandjean@philosophy.ox.ac.uk<br>matteopascucci.academia@gmail.com</p>\n<p><strong>The deadline for submissions is:</strong></p>\n<p>December 31\, 2022</p>\n<p><strong>Submissions via:</strong></p>\n<p>https://www.editorialmanager.com/synt/default.aspx&nbsp\;(T.C. : Temporal reasoning and tensed truths)</p>\n<p><strong>Organizers:</strong></p>\n<p>Vincent Grandjean\, Postdoctoral researcher\, Faculty of Philosophy\, University of Oxford\, United Kingdom. Email:&nbsp\;<a href="mailto:vincent.grandjean@philosophy.ox.ac.uk">vincent.grandjean@philosophy.ox.ac.uk</a>.<br><a href="https://philpeople.org/profiles/vincent-grandjean">https://philpeople.org/profiles/vincent-grandjean</a></p>\n<p>Matteo Pascucci\, Postdoctoral researcher\, Institute of Philosophy\, Slovak Academy of Sciences\, Slovak Republic.&nbsp\;Email address:&nbsp\;<a href="mailto:matteopascucci.academia@gmail.com">matteopascucci.academia@gmail.com</a>.<br><a href="https://philpeople.org/profiles/matteo-pascucci">https://philpeople.org/profiles/matteo-pascucci</a></p>
ORGANIZER:
METHOD:PUBLISH
END:VEVENT
END:VCALENDAR
