BEGIN:VCALENDAR
PRODID:-//Grails iCalendar plugin//NONSGML Grails iCalendar plugin//EN
VERSION:2.0
CALSCALE:GREGORIAN
METHOD:PUBLISH
BEGIN:VEVENT
DTSTAMP:20260420T055408Z
DTSTART;TZID=Europe/Sofia:20260601T060000
DTEND;TZID=Europe/Sofia:20260601T060000
SUMMARY:Eighth Spacetime Conference
UID:20260424T015631Z-iCalPlugin-Grails@philevents-web-f5d4878dd-nv7xt
TZID:Europe/Sofia
LOCATION:Hotel Sandy Beach\, Albena\, Bulgaria\, 9620
DESCRIPTION:<p>The Eighth Spacetime Conference\, organized by Minkowski Institute (Montreal)\, will be held in Hotel Sandy Beach in Albena (near Varna)\, Bulgaria\, which is a guarded resort - arguably the best green\, family-friendly Black Sea resort.&nbsp\;</p>\n<p>The Scientific Organizing Committee invites papers from physicists\, mathematicians and philosophers of physics on any topic related to the nature and ontology of spacetime.&nbsp\; There will be a number of special sessions\, including on "What is the quantum object (the electron\, for example) in spacetime?"</p>\n<p>Extended abstracts of between one and two pages should be emailed to 2026conference@minkowskiinstitute.com by June 1\, 2026. Submissions will be reviewed and notification of acceptance will be sent by June 15\, 2026.</p>\n<p>Scientific Organizing Committee:</p>\n<p>Valia Allori (University of Bergamo)</p>\n<p>James Binkoski (Dartmouth College)</p>\n<p>Carolyn Brighouse (Occidental College\, Los Angeles)</p>\n<p>Karen Crowther (University of Oslo)</p>\n<p>Erik Curiel (University of Bonn)</p>\n<p>Robert Geroch (University of Chicago)</p>\n<p>John B. Manchak (University of California\, Irvine)</p>\n<p>Vesselin Petkov (Minkowski Institute\, Montreal)</p>\n<p>James Read (University of Oxford)</p>\n<p>Carlo Rovelli (Centre de Physique Th&eacute\;orique de Luminy\, Marseille\, France)</p>\n<p>Anguel Stefanov (Bulgarian Academy of Sciences)</p>
ORGANIZER;CN=Vesselin Petkov:
METHOD:PUBLISH
END:VEVENT
BEGIN:VEVENT
DTSTAMP:20260420T055408Z
DTSTART;TZID=Europe/Sofia:20260914T090000
DTEND;TZID=Europe/Sofia:20260917T170000
SUMMARY:Eighth Spacetime Conference
UID:20260424T015632Z-iCalPlugin-Grails@philevents-web-f5d4878dd-nv7xt
TZID:Europe/Sofia
LOCATION:Hotel Sandy Beach\, Albena\, Bulgaria\, 9620
DESCRIPTION:<p>The Eighth Spacetime Conference\, organized by Minkowski Institute (Montreal)\, will be held in Hotel Sandy Beach in Albena (near Varna)\, Bulgaria\, which is a guarded resort - arguably the best green\, family-friendly Black Sea resort.&nbsp\;</p>\n<p>The Scientific Organizing Committee invites papers from physicists\, mathematicians and philosophers of physics on any topic related to the nature and ontology of spacetime.&nbsp\; There will be a number of special sessions\, including on "What is the quantum object (the electron\, for example) in spacetime?"</p>\n<p>Extended abstracts of between one and two pages should be emailed to 2026conference@minkowskiinstitute.com by June 1\, 2026. Submissions will be reviewed and notification of acceptance will be sent by June 15\, 2026.</p>\n<p>Scientific Organizing Committee:</p>\n<p>Valia Allori (University of Bergamo)</p>\n<p>James Binkoski (Dartmouth College)</p>\n<p>Carolyn Brighouse (Occidental College\, Los Angeles)</p>\n<p>Karen Crowther (University of Oslo)</p>\n<p>Erik Curiel (University of Bonn)</p>\n<p>Robert Geroch (University of Chicago)</p>\n<p>John B. Manchak (University of California\, Irvine)</p>\n<p>Vesselin Petkov (Minkowski Institute\, Montreal)</p>\n<p>James Read (University of Oxford)</p>\n<p>Carlo Rovelli (Centre de Physique Th&eacute\;orique de Luminy\, Marseille\, France)</p>\n<p>Anguel Stefanov (Bulgarian Academy of Sciences)</p>\n
ORGANIZER;CN=Vesselin Petkov:
METHOD:PUBLISH
END:VEVENT
END:VCALENDAR
