BEGIN:VCALENDAR
PRODID:-//Grails iCalendar plugin//NONSGML Grails iCalendar plugin//EN
VERSION:2.0
CALSCALE:GREGORIAN
METHOD:PUBLISH
BEGIN:VEVENT
DTSTAMP:20260421T181355Z
DTSTART;TZID=Europe/London:20260526T100000
DTEND;TZID=Europe/London:20260526T170000
SUMMARY:Modelling\, Interpreting\, and Circulating Early Modern Texts: Digital Humanities Approaches to Scholarly Corpora
UID:20260424T014832Z-iCalPlugin-Grails@philevents-web-6b96c54f56-bljdq
TZID:Europe/London
LOCATION:2-10 Norham Rd\, Oxford OX2 6SE\, Oxford\, United Kingdom
DESCRIPTION:<p>NOTCOM is pleased to announce the upcoming seminar held as part of the Channels of Digital Scholarship series at the Maison Fran&ccedil\;aise d&rsquo\;Oxford:&nbsp\;<em>Modelling\, Interpreting\, and Circulating Early Modern Texts: Digital Humanities Approaches to Scholarly Corpora.&nbsp\;</em></p>\n<p><em><br></em></p>\n<p>Speakers:</p>\n<p>&middot\; Motasem Alrahabi (Sorbonne Universit&eacute\;\, ObTIC)</p>\n<p>&middot\; Glenn Roe (University of Oxford\, Jesus College\, ERC ModERN)</p>\n<p>&middot\; Mouhamadoul Khaly W&eacute\;l&eacute\; (CNRS\, IHRIM\, ERC NOTCOM)</p>\n<p>The seminar will explore how digital humanities methods enable new ways of modelling\, interpreting\, and circulating early modern scholarly texts and knowledge\, drawing on the complementary perspectives of three major research initiatives.</p>\n<p>Programme available here:&nbsp\;https://notcom.hypotheses.org/7272</p>\n<p>Participation is open to all. Those wishing to attend online should contact Mouhamadoul Khaly W&eacute\;l&eacute\; at&nbsp\;mouhamadoul-khaly.wele@cnrs.fr.</p>
ORGANIZER:
METHOD:PUBLISH
END:VEVENT
END:VCALENDAR
