BEGIN:VCALENDAR
PRODID:-//Grails iCalendar plugin//NONSGML Grails iCalendar plugin//EN
VERSION:2.0
CALSCALE:GREGORIAN
METHOD:PUBLISH
BEGIN:VEVENT
DTSTAMP:20260421T195943Z
DTSTART;TZID=Europe/Vienna:20260423T230000
DTEND;TZID=Europe/Vienna:20260423T230000
SUMMARY:The BEYOND LANGUAGE 2026 Conference
UID:20260424T075019Z-iCalPlugin-Grails@philevents-web-6b96c54f56-bljdq
TZID:Europe/Vienna
LOCATION:Universitätsring 1\, Vienna\, Austria
DESCRIPTION:<p>The international conference <em>Beyond Language</em>&nbsp\;- Vienna edition\, hosted at the University of Vienna - brings together scholars from philosophy\, theology\, linguistics\, and related disciplines to discuss the role and limits of language in human knowledge\, experience\, and social life. The conference aims to foster interdisciplinary dialogue on how language shapes understanding\, truth\, justification\, and social practices of knowledge.</p>\n<p>We invite submissions addressing topics such as philosophy of language\, epistemology\, neopragmatism\, political epistemology\, hermeneutics\, religion and the public sphere\, and other interdisciplinary approaches to language\, meaning\, and knowledge.</p>\n<p>Submission</p>\n<p>Please submit an abstract including:</p>\n<ul>\n<li>\n<p><strong>title of the paper</strong></p>\n</li>\n<li>\n<p><strong>abstract (300&ndash\;400 words)</strong> clearly presenting the research question\, theoretical framework\, and main argument</p>\n</li>\n<li>\n<p><strong>short academic bio (max. 100 words)</strong></p>\n</li>\n<li>\n<p><strong>institutional affiliation</strong></p>\n</li>\n</ul>\n<p>Presentation time: <strong>10&ndash\;15 minutes</strong>\, followed by discussion.</p>\n<p>Submissions should be sent to:&nbsp\;a12547311@unet.univie.ac.at and&nbsp\;monika.piechota@uwr.edu.pl</p>
ORGANIZER:
METHOD:PUBLISH
END:VEVENT
BEGIN:VEVENT
DTSTAMP:20260421T195943Z
DTSTART;TZID=Europe/Vienna:20260626T090000
DTEND;TZID=Europe/Vienna:20260627T170000
SUMMARY:The BEYOND LANGUAGE 2026 Conference
UID:20260424T075020Z-iCalPlugin-Grails@philevents-web-6b96c54f56-bljdq
TZID:Europe/Vienna
LOCATION:Universitätsring 1\, Vienna\, Austria
DESCRIPTION:<p>BEYOND LANGUAGE&nbsp\;is an international conference that aims at integrating international young researchers of language\, literature and culture understood as pivotal social human behavioral patterns. Conference organizers wish to address\, among other issues\, the need of investigating minority speech communities\, endangered and vanishing languages\, literatures and cultures\, small languages\, pidgins and creoles\, as well as narrowing down the scope of study of cultural practices performed by the means of language and studies through the scope of contact linguistics and anthropological linguistics.</p>\n<p>This year the Young Scholars Conference &ndash\; BEYOND LANGUAGE 2026 &ndash\; for the first time invites scientists from biological\, medical\, and experimental sciences!</p>\n<p>The scope of the conference seeks to establish a ground for new research in the following areas:</p>\n<p>&ndash\; endangered and vanishing languages\, literatures and cultures\,</p>\n<p>&ndash\; anthropological linguistics\,</p>\n<p>&ndash\; studies of cultures and societies\,</p>\n<p>&ndash\; cultural patterns in discursive practices\,</p>\n<p>&ndash\; folk-linguistics and folk-anthropology\,</p>\n<p>&ndash\; mechanisms of language change (and language death)\,</p>\n<p>&ndash\; the ethnography of communication\,</p>\n<p>&ndash\; studies of small languages and linguistic vitality\,</p>\n<p>&ndash\; field linguistics\,</p>\n<p>&ndash\; translation/interpretation studies\,</p>\n<p>&nbsp\;&ndash\; non-confessional theology\,</p>\n<p>&ndash\; public and critical theology\,</p>\n<p>&ndash\; philosophy of religion\,</p>\n<p>&ndash\; political epistemology\,</p>\n<p>&ndash\; studies of identity\, borders\, and cultural transformation\, broader interdisciplinary humanities\,</p>\n<p>&ndash\; current research problems and challenges in contemporary biology\, medicine and experimental sciences in all their dimensions.</p>\n<p>Honorary patronage &amp\; publication opportunity:</p>\n<p>&AElig\;&nbsp\;Academic Publishing\, San Diego\, USA</p>\n<p>Academic Journal of Modern Philology</p>
ORGANIZER:
METHOD:PUBLISH
END:VEVENT
END:VCALENDAR
