BEGIN:VCALENDAR
PRODID:-//Grails iCalendar plugin//NONSGML Grails iCalendar plugin//EN
VERSION:2.0
CALSCALE:GREGORIAN
METHOD:PUBLISH
BEGIN:VEVENT
DTSTAMP:20260422T143638Z
DTSTART;TZID=Australia/Melbourne:20260428T130000
DTEND;TZID=Australia/Melbourne:20260428T140000
SUMMARY:On diasporic place-worlds and the im/possibilities of home
UID:20260426T121748Z-iCalPlugin-Grails@philevents-web-6b96c54f56-bljdq
TZID:Australia/Melbourne
LOCATION:221 Burwood Highway\, Melbourne\, Australia\, 3125
DESCRIPTION:<p>The&nbsp\;<strong>Deakin Minorities in Philosophy Network&nbsp\;</strong>is a new initiative towards reimagining the face of philosophy\, which still has significant underrepresentation of women and other minorities. We are sponsoring a lunchtime talk next week. All welcome\, but please RSVP if you want to attend (details below) &nbsp\;</p>\n<p><strong>When:</strong>&nbsp\;<strong>Tuesday 28</strong><strong>th</strong><strong>&nbsp\;April\, 1-2pm</strong></p>\n<p><strong>Where:</strong><strong>&nbsp\;Burwood\, BCC building</strong>&nbsp\;(the big gold one on Burwood Hwy). Go to the second floor and look at the board to see the room assignment. We'll also open the room to Zoom participation.&nbsp\;</p>\n<p><strong>RSVP:</strong>To attend the Burwood event\, join online\, or simply be added to the Network mailing list\, email Cathy Legg:&nbsp\;<strong>c.legg@deakin.edu.au&nbsp\;</strong></p>\n<p><strong>What:</strong>&nbsp\;Free snacks\, meet and greet\, and a talk by Deakin's own&nbsp\;<strong>Dr Helen Ngo</strong>:&nbsp\;<strong>Australian Research Council Research Fellow and Lecturer in Philosophy working in phenomenology\, critical philosophy of race and feminist philosophy</strong>.</p>
ORGANIZER;CN=Cathy Legg:
METHOD:PUBLISH
END:VEVENT
END:VCALENDAR
